BEGIN:VCALENDAR
VERSION:2.0
PRODID:-//wp-events-plugin.com//7.2.3.1//EN
TZID:America/New_York
X-WR-TIMEZONE:America/New_York
BEGIN:VEVENT
UID:1111@mariettaohio.org
DTSTART;TZID=America/New_York:20231103T190000
DTEND;TZID=America/New_York:20231103T210000
DTSTAMP:20231026T180835Z
URL:https://mariettaohio.org/events/youre-a-good-man-charlie-brown-musical
 /
SUMMARY:You're a Good Man Charlie Brown Musical
DESCRIPTION:Charlie Brown and the entire Peanuts gang explore life's great 
 questions as they play baseball\, struggle with homework\, sing songs\, sw
 oon over their crushes\, and celebrate the joy of friendship. Join us for 
 this full length Musical for the whole family. Start your evening off with
  a dinner buffet\, then sit back and enjoy the show. Enjoy some nostalgia 
 from your childhood or introduce your family for the first time. Either wa
 y\, you are sure to enjoy this production of "You're a Good Man Charlie Br
 own."\n\nPresented by The Company at the Valley Gem and courtesy of Tams W
 hitmark and Concord Theatricals.\n\nCall 740-373-7862 or visit the Major/R
 iviera tab at www.valleygemsternwheeler.com\n\nDoors open at 6:30pm. Show 
 begins at 7:00pm.\n\nNovember 3\, 17 and 18 at 7pm. Tickets are $60 for ad
 ults\, $50 for Children 3-12.\n\nBased on The Comic Strip Peanuts by Charl
 es M. Schulz\nBook\, Music and Lyrics by Clark Gesner\nAdditional Dialogue
  by Michael Mayer\nAdditional Music and Lyrics by Andrew Lippa\n\nOriginal
  Direction for this version of You're A Good Man\, Charlie Brown by Michae
 l Mayer\nOriginally Produced in New York by Arthur Whitelaw and Gene Perss
 on
ATTACH;FMTTYPE=image/jpeg:https://mariettaohio.org/wp-content/uploads/2023
 /10/Good-Man-Charlie-Brown-Xola.jpg
CATEGORIES:Events
LOCATION:Major/Riviera\, 601 Front Street\, Marietta\, OH\, 45750\, United 
 States
X-APPLE-STRUCTURED-LOCATION;VALUE=URI;X-ADDRESS=601 Front Street\, Marietta
 \, OH\, 45750\, United States;X-APPLE-RADIUS=100;X-TITLE=Major/Riviera:geo
 :0,0
END:VEVENT
BEGIN:VTIMEZONE
TZID:America/New_York
X-LIC-LOCATION:America/New_York
BEGIN:DAYLIGHT
DTSTART:20230312T030000
TZOFFSETFROM:-0500
TZOFFSETTO:-0400
TZNAME:EDT
END:DAYLIGHT
END:VTIMEZONE
END:VCALENDAR