BEGIN:VCALENDAR
VERSION:2.0
PRODID:-//wp-events-plugin.com//7.2.3.1//EN
TZID:America/New_York
X-WR-TIMEZONE:America/New_York
BEGIN:VEVENT
UID:2341@mariettaohio.org
DTSTART;TZID=America/New_York:20250608T000000
DTEND;TZID=America/New_York:20250608T000000
DTSTAMP:20250602T165736Z
URL:https://mariettaohio.org/events/wrangler-fest-day-3/
SUMMARY:Wrangler Fest -Day 3
DESCRIPTION:Let’s put a smile on your face ! June 8th\, 2025 The Naughty 
 Lobstah truck will be in the Wrangler parking lot 11:00am -7:00pm. Our bee
 r garden will be open for you to come and sit down and eat! Hope to see yo
 u there!
ATTACH;FMTTYPE=image/jpeg:https://mariettaohio.org/wp-content/uploads/2025
 /06/IMG_2871-1.jpeg
CATEGORIES:Events
LOCATION:Wrangler Tavern\, 6675 OH 821\, Whipple\, OH\, 45788\, United Stat
 es
X-APPLE-STRUCTURED-LOCATION;VALUE=URI;X-ADDRESS=6675 OH 821\, Whipple\, OH\
 , 45788\, United States;X-APPLE-RADIUS=100;X-TITLE=Wrangler Tavern:geo:0,0
END:VEVENT
BEGIN:VTIMEZONE
TZID:America/New_York
X-LIC-LOCATION:America/New_York
BEGIN:DAYLIGHT
DTSTART:20250309T030000
TZOFFSETFROM:-0500
TZOFFSETTO:-0400
TZNAME:EDT
END:DAYLIGHT
END:VTIMEZONE
END:VCALENDAR