BEGIN:VCALENDAR
VERSION:2.0
PRODID:-//wp-events-plugin.com//7.2.3.1//EN
TZID:America/New_York
X-WR-TIMEZONE:America/New_York
BEGIN:VEVENT
UID:2340@mariettaohio.org
DTSTART;TZID=America/New_York:20250606T160000
DTEND;TZID=America/New_York:20250606T234500
DTSTAMP:20250602T165748Z
URL:https://mariettaohio.org/events/wrangler-fest-day-1/
SUMMARY:Wrangler Fest- Day 1
DESCRIPTION:Come join the fun for Wrangler Fest June 6th-8th\, 2025! Day 1-
  Dinner staring @4:00pm. Loaded Mac-N-cheese with pulled chicken $11.99. K
 araoke with Rockin Rices will be 8:00-11:00pm. Hope to see you there!
ATTACH;FMTTYPE=image/jpeg:https://mariettaohio.org/wp-content/uploads/2025
 /06/IMG_2871.jpeg
CATEGORIES:Music
LOCATION:Wrangler Tavern\, 6675 OH 821\, Whipple\, OH\, 45788\, United Stat
 es
X-APPLE-STRUCTURED-LOCATION;VALUE=URI;X-ADDRESS=6675 OH 821\, Whipple\, OH\
 , 45788\, United States;X-APPLE-RADIUS=100;X-TITLE=Wrangler Tavern:geo:0,0
END:VEVENT
BEGIN:VTIMEZONE
TZID:America/New_York
X-LIC-LOCATION:America/New_York
BEGIN:DAYLIGHT
DTSTART:20250309T030000
TZOFFSETFROM:-0500
TZOFFSETTO:-0400
TZNAME:EDT
END:DAYLIGHT
END:VTIMEZONE
END:VCALENDAR