BEGIN:VCALENDAR
VERSION:2.0
PRODID:-//wp-events-plugin.com//7.2.3.1//EN
TZID:America/New_York
X-WR-TIMEZONE:America/New_York
BEGIN:VEVENT
UID:2972@mariettaohio.org
DTSTART;TZID=America/New_York:20260516T140000
DTEND;TZID=America/New_York:20260516T180000
DTSTAMP:20260401T135346Z
URL:https://mariettaohio.org/events/wine-chocolate-walk-2/
SUMMARY:Wine & Chocolate Walk
DESCRIPTION:Indulge in an afternoon of wine\, chocolate\, and charming down
 town vibes at Marietta Main Street’s 2026 Wine &amp\; Chocolate Walk\, s
 ponsored by Hall Financial Advisors. Stroll through historic downtown Mari
 etta as you visit local restaurants and retail shops\, savoring delightful
  wine and chocolate along the way.\nDate: Saturday\, May 16\, 2026\nEvent 
 Times: 2pm - 6pm (Check-in: 1:30 PM – 3:00 PM)\nUpon check-in\, you’ll
  receive a wristband\, a tasting glass\, and a map to guide you through 10
  wine and 10 chocolate stops. Take your time exploring downtown’s unique
  shops and restaurants as you sip\, savor\, and shop!\nImportant: Material
 s are only available during check-in hours and will not be held for late p
 ickup. Unclaimed materials after 3:00 PM will be forfeited. Must be 21+ to
  participate.
ATTACH;FMTTYPE=image/jpeg:https://mariettaohio.org/wp-content/uploads/2026
 /04/2026FacebookSquareWineandChocolateWalk.webp
CATEGORIES:Events
LOCATION:Armory Square Lawn\, 241 Front Street\, Marietta\, OH\, 45750\, Un
 ited States
GEO:39.413178;-81.455321
X-APPLE-STRUCTURED-LOCATION;VALUE=URI;X-ADDRESS=241 Front Street\, Marietta
 \, OH\, 45750\, United States;X-APPLE-RADIUS=100;X-TITLE=Armory Square Law
 n:geo:39.413178,-81.455321
END:VEVENT
BEGIN:VTIMEZONE
TZID:America/New_York
X-LIC-LOCATION:America/New_York
BEGIN:DAYLIGHT
DTSTART:20260308T030000
TZOFFSETFROM:-0500
TZOFFSETTO:-0400
TZNAME:EDT
END:DAYLIGHT
END:VTIMEZONE
END:VCALENDAR