BEGIN:VCALENDAR
VERSION:2.0
PRODID:-//wp-events-plugin.com//7.2.3.1//EN
TZID:America/New_York
X-WR-TIMEZONE:America/New_York
BEGIN:VEVENT
UID:1666@mariettaohio.org
DTSTART;TZID=America/New_York:20240621T120000
DTEND;TZID=America/New_York:20240621T160000
DTSTAMP:20240606T163703Z
URL:https://mariettaohio.org/events/willow-island-lock-and-lunch-cruise/
SUMMARY:Willow Island Lock and Lunch Cruise
DESCRIPTION:This cruise travels up the Ohio River to Willow Island Lock and
  Dam. You will enjoy a served buffet luncheon while cruising up the Ohio R
 iver. We will lock through Willow Island\, turn around\, lock down again a
 nd return to our dock in Marietta. The cruise leaves at 12pm and returns a
 round 4pm. Reservations are required.\n\nCall 740-373-7862 or visit "Book 
 Major/Riviera" at www.valleygemsternwheeler.com
ATTACH;FMTTYPE=image/jpeg:https://mariettaohio.org/wp-content/uploads/2024
 /06/willow20island20web.jpg
CATEGORIES:Events
LOCATION:Major/Riviera\, 601 Front Street\, Marietta\, OH\, 45750\, United 
 States
X-APPLE-STRUCTURED-LOCATION;VALUE=URI;X-ADDRESS=601 Front Street\, Marietta
 \, OH\, 45750\, United States;X-APPLE-RADIUS=100;X-TITLE=Major/Riviera:geo
 :0,0
END:VEVENT
BEGIN:VTIMEZONE
TZID:America/New_York
X-LIC-LOCATION:America/New_York
BEGIN:DAYLIGHT
DTSTART:20240310T030000
TZOFFSETFROM:-0500
TZOFFSETTO:-0400
TZNAME:EDT
END:DAYLIGHT
END:VTIMEZONE
END:VCALENDAR