BEGIN:VCALENDAR
VERSION:2.0
PRODID:-//wp-events-plugin.com//7.2.3.1//EN
TZID:America/New_York
X-WR-TIMEZONE:America/New_York
BEGIN:VEVENT
UID:2293@mariettaohio.org
DTSTART;TZID=America/New_York:20250620T120000
DTEND;TZID=America/New_York:20250620T160000
DTSTAMP:20250528T161257Z
URL:https://mariettaohio.org/events/willow-island-lock-and-lunch-4/
SUMMARY:Willow Island Lock and Lunch
DESCRIPTION:This cruise travels up the Ohio River to Willow Island Lock and
  Dam. You will enjoy a served buffet luncheon while cruising up the Ohio R
 iver. We will lock through Willow Island\, turn around\, lock down again a
 nd return to our dock in Marietta. The cruise leaves at 12pm and returns a
 round 4pm. Reservations are required.\n\n$48 for Adults\, $46 for Seniors\
 , $38 for Children 3-12\n\nBook Online at www.valleygemsternwheeler.com or
  call 740-373-7862
ATTACH;FMTTYPE=image/jpeg:https://mariettaohio.org/wp-content/uploads/2025
 /05/willow20island20web.jpg
CATEGORIES:Events,Tours
LOCATION:Major/Riviera\, 601 Front Street\, Marietta\, OH\, 45750\, United 
 States
X-APPLE-STRUCTURED-LOCATION;VALUE=URI;X-ADDRESS=601 Front Street\, Marietta
 \, OH\, 45750\, United States;X-APPLE-RADIUS=100;X-TITLE=Major/Riviera:geo
 :0,0
END:VEVENT
BEGIN:VTIMEZONE
TZID:America/New_York
X-LIC-LOCATION:America/New_York
BEGIN:DAYLIGHT
DTSTART:20250309T030000
TZOFFSETFROM:-0500
TZOFFSETTO:-0400
TZNAME:EDT
END:DAYLIGHT
END:VTIMEZONE
END:VCALENDAR