BEGIN:VCALENDAR
VERSION:2.0
PRODID:-//wp-events-plugin.com//7.2.3.1//EN
TZID:America/New_York
X-WR-TIMEZONE:America/New_York
BEGIN:VEVENT
UID:2965@mariettaohio.org
DTSTART;TZID=America/New_York:20260509T090000
DTEND;TZID=America/New_York:20260509T130000
DTSTAMP:20260331T172126Z
URL:https://mariettaohio.org/events/wildroot-flower-cos-mothers-day-spring
 -market/
SUMMARY:Wildroot Flower Co's Mother's Day Spring Market
DESCRIPTION:Mother’s Day Spring Market\nSaturday\, May 9 | 9 AM–1 PM | 
 At the Farm\n\nWildroot Flower Co - 315 Forshey Rd\, Marietta\, OH\n\nCele
 brate the season with a morning full of flowers and locally curated vendor
 s specifically chosen to nourish your body and soul. We’ll have fresh bo
 uquets\, dried florals\, jewelry\, tea\, Wildroot merch\, candles\, — pl
 us indulge with Lisa’s Sweet Stop and Sips coffee truck on site!\n\nA pe
 rfect spot to shop for yourself or the Mother in your life be it your mom\
 , daughter\, grandmother or friend (or self-gifting—we support that).\n\
 nhttps://www.wildrootflowerco.com/workshop-calendar/motherdayspringmarket
ATTACH;FMTTYPE=image/jpeg:https://mariettaohio.org/wp-content/uploads/2026
 /03/Flower-Stand.jpg
CATEGORIES:Events
LOCATION:Wildroot Flower Co\, 315 Forshey Rd\, Marietta\, OH\, 45750\, Unit
 ed States
X-APPLE-STRUCTURED-LOCATION;VALUE=URI;X-ADDRESS=315 Forshey Rd\, Marietta\,
  OH\, 45750\, United States;X-APPLE-RADIUS=100;X-TITLE=Wildroot Flower Co:
 geo:0,0
END:VEVENT
BEGIN:VTIMEZONE
TZID:America/New_York
X-LIC-LOCATION:America/New_York
BEGIN:DAYLIGHT
DTSTART:20260308T030000
TZOFFSETFROM:-0500
TZOFFSETTO:-0400
TZNAME:EDT
END:DAYLIGHT
END:VTIMEZONE
END:VCALENDAR