BEGIN:VCALENDAR
VERSION:2.0
PRODID:-//wp-events-plugin.com//7.2.3.1//EN
TZID:America/New_York
X-WR-TIMEZONE:America/New_York
BEGIN:VEVENT
UID:333@mariettaohio.org
DTSTART;TZID=America/New_York:20230125T180000
DTEND;TZID=America/New_York:20230125T210000
DTSTAMP:20221222T185142Z
URL:https://mariettaohio.org/events/white-wine-dinner/
SUMMARY:White Wine Dinner
DESCRIPTION:Wednesday\, January 25\, 2023\, 6pm\nWhite Wine Dinner\n4 cours
 es\n$75.00 per person (taxes and gratuity not included)\nCourse 1–Escarg
 ot paired with Drouhin Bourgogne Blanc\nCourse 2-Mussels paired with Domai
 ne does Quatre Routes Muscadet\nCourse 3-Cioppino paired with Pavo &amp\; 
 Lola Albariño\nCourse 4-Lemon Curd Meringue Tart paired with Jackson Trig
 gs Vidal Icewine\nCall 740-371-7035 for reservations\n
ATTACH;FMTTYPE=image/jpeg:https://mariettaohio.org/wp-content/uploads/2022
 /12/Levee-House-Wine-Dinner.jpg
CATEGORIES:Community,Events,Featured
LOCATION:Levee House Bistro\, 127 Ohio Street\, Marietta\, Ohio\, 45750\, U
 nited States
X-APPLE-STRUCTURED-LOCATION;VALUE=URI;X-ADDRESS=127 Ohio Street\, Marietta\
 , Ohio\, 45750\, United States;X-APPLE-RADIUS=100;X-TITLE=Levee House Bist
 ro:geo:0,0
END:VEVENT
BEGIN:VTIMEZONE
TZID:America/New_York
X-LIC-LOCATION:America/New_York
BEGIN:STANDARD
DTSTART:20221106T010000
TZOFFSETFROM:-0400
TZOFFSETTO:-0500
TZNAME:EST
END:STANDARD
END:VTIMEZONE
END:VCALENDAR