BEGIN:VCALENDAR
VERSION:2.0
PRODID:-//wp-events-plugin.com//7.2.3.1//EN
TZID:America/New_York
X-WR-TIMEZONE:America/New_York
BEGIN:VEVENT
UID:559@mariettaohio.org
DTSTART;TZID=America/New_York:20230817T090000
DTEND;TZID=America/New_York:20230817T210000
DTSTAMP:20230317T160455Z
URL:https://mariettaohio.org/events/waterford-community-fair/
SUMMARY:Waterford Community Fair
DESCRIPTION:Homemade noodles\, pie\, and lemon shakes are staples at the Wa
 terford Community Fair on the third weekend in August. Home of the Tractor
  Pull.\n\n&nbsp\;\n\nwww.waterfordfair.com
ATTACH;FMTTYPE=image/jpeg:https://mariettaohio.org/wp-content/uploads/2023
 /03/13925077_1017787205008288_7775689901610102901_n.jpg
CATEGORIES:Arts &amp;
 Entertainment,Community,Events,Featured,Festivals,Music
LOCATION:Waterford Fairgrounds\, 19219 State Route 339\, Waterford\, Ohio\,
  45786\, United States
X-APPLE-STRUCTURED-LOCATION;VALUE=URI;X-ADDRESS=19219 State Route 339\, Wat
 erford\, Ohio\, 45786\, United States;X-APPLE-RADIUS=100;X-TITLE=Waterford
  Fairgrounds:geo:0,0
END:VEVENT
BEGIN:VTIMEZONE
TZID:America/New_York
X-LIC-LOCATION:America/New_York
BEGIN:DAYLIGHT
DTSTART:20230312T030000
TZOFFSETFROM:-0500
TZOFFSETTO:-0400
TZNAME:EDT
END:DAYLIGHT
END:VTIMEZONE
END:VCALENDAR