BEGIN:VCALENDAR
VERSION:2.0
PRODID:-//wp-events-plugin.com//7.2.3.1//EN
TZID:America/New_York
X-WR-TIMEZONE:America/New_York
BEGIN:VEVENT
UID:2992@mariettaohio.org
DTSTART;TZID=America/New_York;VALUE=DATE:20260813
DTEND;TZID=America/New_York;VALUE=DATE:20260817
DTSTAMP:20260401T161107Z
URL:https://mariettaohio.org/events/waterford-community-fair-5/
SUMMARY:Waterford Community Fair
DESCRIPTION:\nThe Waterford Community Fair in Ohio is a beloved sm
 all-town event celebrating community\, family traditions\, and loca
 l agriculture\, featuring parades\, 4-H shows\, tractor pulls\, ri
 des\, and homemade treats like noodles and lemon shakes.\n\n\nHeld
  annually at the Waterford Fairgrounds\, the fair brings together
  thousands of visitors to enjoy four days of community spirit\,
  family fun\, and hometown cuisine\n
ATTACH;FMTTYPE=image/jpeg:https://mariettaohio.org/wp-content/uploads/2026
 /04/633651344_1540497341419910_2910189488398112664_n.jpg
CATEGORIES:Arts &amp; Entertainment,Community,Events,Family,Festivals
LOCATION:Waterford Fairgrounds\, 19219 State Route 339\, Waterford\, Ohio\,
  45786\, United States
X-APPLE-STRUCTURED-LOCATION;VALUE=URI;X-ADDRESS=19219 State Route 339\, Wat
 erford\, Ohio\, 45786\, United States;X-APPLE-RADIUS=100;X-TITLE=Waterford
  Fairgrounds:geo:0,0
END:VEVENT
BEGIN:VTIMEZONE
TZID:America/New_York
X-LIC-LOCATION:America/New_York
BEGIN:DAYLIGHT
DTSTART:20260308T030000
TZOFFSETFROM:-0500
TZOFFSETTO:-0400
TZNAME:EDT
END:DAYLIGHT
END:VTIMEZONE
END:VCALENDAR