BEGIN:VCALENDAR
VERSION:2.0
PRODID:-//wp-events-plugin.com//7.2.3.1//EN
TZID:America/New_York
X-WR-TIMEZONE:America/New_York
BEGIN:VEVENT
UID:2996@mariettaohio.org
DTSTART;TZID=America/New_York;VALUE=DATE:20260805
DTEND;TZID=America/New_York;VALUE=DATE:20260809
DTSTAMP:20260401T162504Z
URL:https://mariettaohio.org/events/washington-county-fair-6/
SUMMARY:Washington County Fair
DESCRIPTION:Washington County Fair is a 4-day fair set to be held from Sep 
 5th – Sep 8th\, 2025 at the Washington County Fairgrounds which is locat
 ed in Marietta\, Ohio and organized by Washington County Agricultural Soci
 ety. The fair attracts over 30\,000 visitors around the region. It feature
 s educational and agricultural events\, various competitions and contests\
 , and fun for the whole family. People of all ages will enjoy some good\, 
 clean entertainment\, eat first-rate food prepared by local cooks\, and vi
 ew some great exhibits.
ATTACH;FMTTYPE=image/jpeg:https://mariettaohio.org/wp-content/uploads/2026
 /04/cropped-washcofairlogo-color-200.png
CATEGORIES:Community,Events,Festivals,Outdoor Recreation
LOCATION:Washington County Fairgrounds\, 922 Front Street\, Marietta\, Ohio
 \, 45750\, United States
X-APPLE-STRUCTURED-LOCATION;VALUE=URI;X-ADDRESS=922 Front Street\, Marietta
 \, Ohio\, 45750\, United States;X-APPLE-RADIUS=100;X-TITLE=Washington Coun
 ty Fairgrounds:geo:0,0
END:VEVENT
BEGIN:VTIMEZONE
TZID:America/New_York
X-LIC-LOCATION:America/New_York
BEGIN:DAYLIGHT
DTSTART:20260308T030000
TZOFFSETFROM:-0500
TZOFFSETTO:-0400
TZNAME:EDT
END:DAYLIGHT
END:VTIMEZONE
END:VCALENDAR