BEGIN:VCALENDAR
VERSION:2.0
PRODID:-//wp-events-plugin.com//7.2.3.1//EN
TZID:America/New_York
X-WR-TIMEZONE:America/New_York
BEGIN:VEVENT
UID:2344@mariettaohio.org
DTSTART;TZID=America/New_York:20250831T090000
DTEND;TZID=America/New_York:20250903T090000
DTSTAMP:20250609T142640Z
URL:https://mariettaohio.org/events/washington-county-fair-5/
SUMMARY:Washington County Fair
DESCRIPTION:Washington County Fair is a 4-day fair set to be held on Aug 30
  - Sep 2\, 2025 at the Washington County Fairgrounds which is located in M
 arietta\, Ohio and organized by Washington County Agricultural Society. Th
 e fair attracts over 30\,000 visitors around the region. It features educa
 tional and agricultural events\, various competitions and contests\, and f
 un for the whole family. People of all ages will enjoy some good\, clean e
 ntertainment\, eat first-rate food prepared by local cooks\, and view some
  great exhibits.
ATTACH;FMTTYPE=image/jpeg:https://mariettaohio.org/wp-content/uploads/2025
 /06/cropped-washcofairlogo-color-200.png
CATEGORIES:Festivals
LOCATION:Washington County Fairgrounds\, 922 Front Street\, Marietta\, Ohio
 \, 45750\, United States
X-APPLE-STRUCTURED-LOCATION;VALUE=URI;X-ADDRESS=922 Front Street\, Marietta
 \, Ohio\, 45750\, United States;X-APPLE-RADIUS=100;X-TITLE=Washington Coun
 ty Fairgrounds:geo:0,0
END:VEVENT
BEGIN:VTIMEZONE
TZID:America/New_York
X-LIC-LOCATION:America/New_York
BEGIN:DAYLIGHT
DTSTART:20250309T030000
TZOFFSETFROM:-0500
TZOFFSETTO:-0400
TZNAME:EDT
END:DAYLIGHT
END:VTIMEZONE
END:VCALENDAR