BEGIN:VCALENDAR
VERSION:2.0
PRODID:-//wp-events-plugin.com//7.2.3.1//EN
TZID:America/New_York
X-WR-TIMEZONE:America/New_York
BEGIN:VEVENT
UID:2050@mariettaohio.org
DTSTART;TZID=America/New_York:20250110T200000
DTEND;TZID=America/New_York:20250111T000000
DTSTAMP:20241213T141850Z
URL:https://mariettaohio.org/events/truckstop/
SUMMARY:Truckstop
DESCRIPTION:TRUCKSTOP (T-STOP) IS A WEST VIRGINIA BASED HEAVY METAL\, AND T
 HRASH BAND\, THAT LAUNCHED IN 2020. THE FIVE PIECE OUTFIT IS MADE UP OF GU
 ITARIST\, JERRY LAREW JR\, VOCALIST\, NASH MORRIS\, DRUMMER\, AUSTIN ERB\,
  BASSIST\, JUSTIN EWING AND GUITARIST DYLAN HIBBARD. TRUCKSTOP BEGAN DURIN
 G THE PANDEMIC AND THE GUYS RELEASED THEIR DEBUT ALBUM BLOOD WITCH IN JULY
  2022. T-STOP LAUNCHED THEIR FIRST TOUR IN 2023\, AND ARE CURRENTLY WORKIN
 G ON THEIR SECOND ALBUM. THEY GAINED MOMENTUM WITH THEIR FUN TIKTOK VIDEOS
  AND CALL THEIR FANBASE THE TRUCKSTOP FAM. THEIR NEW SINGLE YOU BETTER RUN
  IS EXPECTED EARLY 2025.
ATTACH;FMTTYPE=image/jpeg:https://mariettaohio.org/wp-content/uploads/2024
 /12/ADL-04256-Truckstop_FEATURE.jpg
CATEGORIES:Music
LOCATION:The Adelphia Music Hall\, 205 2nd St\, Marietta\, OH\, 45750\, Uni
 ted States
GEO:39.413719;-81.453701
X-APPLE-STRUCTURED-LOCATION;VALUE=URI;X-ADDRESS=205 2nd St\, Marietta\, OH\
 , 45750\, United States;X-APPLE-RADIUS=100;X-TITLE=The Adelphia Music Hall
 :geo:39.413719,-81.453701
END:VEVENT
BEGIN:VTIMEZONE
TZID:America/New_York
X-LIC-LOCATION:America/New_York
BEGIN:STANDARD
DTSTART:20241103T010000
TZOFFSETFROM:-0400
TZOFFSETTO:-0500
TZNAME:EST
END:STANDARD
END:VTIMEZONE
END:VCALENDAR