BEGIN:VCALENDAR
VERSION:2.0
PRODID:-//wp-events-plugin.com//7.2.3.1//EN
TZID:America/New_York
X-WR-TIMEZONE:America/New_York
BEGIN:VEVENT
UID:1726@mariettaohio.org
DTSTART;TZID=America/New_York:20241108T200000
DTEND;TZID=America/New_York:20241108T230000
DTSTAMP:20240725T154549Z
URL:https://mariettaohio.org/events/tommy-vext-gods-monsters-tour/
SUMMARY:Tommy Vext Gods &amp\; Monsters Tour
DESCRIPTION:Welcome to the Tommy Vext Gods &amp\; Monsters Tour! Get ready 
 to rock out with Tommy Vext and his band as they bring their high-energy p
 erformance to The Adelphia Music Hall. Join us on Friday\, November 8\, 20
 24 for a night filled with incredible music. Get your tickets now!
ATTACH;FMTTYPE=image/jpeg:https://mariettaohio.org/wp-content/uploads/2024
 /07/ADL-04095-Tommy-Vext_SOCIAL_A.jpg
CATEGORIES:Music
LOCATION:The Adelphia Music Hall\, 205 2nd St\, Marietta\, OH\, 45750\, Uni
 ted States
GEO:39.413719;-81.453701
X-APPLE-STRUCTURED-LOCATION;VALUE=URI;X-ADDRESS=205 2nd St\, Marietta\, OH\
 , 45750\, United States;X-APPLE-RADIUS=100;X-TITLE=The Adelphia Music Hall
 :geo:39.413719,-81.453701
END:VEVENT
BEGIN:VTIMEZONE
TZID:America/New_York
X-LIC-LOCATION:America/New_York
BEGIN:STANDARD
DTSTART:20241103T010000
TZOFFSETFROM:-0400
TZOFFSETTO:-0500
TZNAME:EST
END:STANDARD
END:VTIMEZONE
END:VCALENDAR