BEGIN:VCALENDAR
VERSION:2.0
PRODID:-//wp-events-plugin.com//7.2.3.1//EN
TZID:America/New_York
X-WR-TIMEZONE:America/New_York
BEGIN:VEVENT
UID:1412@mariettaohio.org
DTSTART;TZID=America/New_York:20240513T163000
DTEND;TZID=America/New_York:20240513T173000
DTSTAMP:20240206T201632Z
URL:https://mariettaohio.org/events/time-for-a-pick-me-up-3-2024-05-13/
SUMMARY:Time for a Pick me Up!
DESCRIPTION:Take time to slow down for a minute and enjoy. Bring your curre
 nt read and tell everyone about it. The Library will provide a small drink
 . This program takes place at the Lock #4 Coffee Shop\, located at 123 3rd
  Street in Beverly. This event is for ages 13+. Questions? Call the Beverl
 y Branch at 740-984-4060.
ATTACH;FMTTYPE=image/jpeg:https://mariettaohio.org/wp-content/uploads/2024
 /02/coffee-2390136_1280.jpg
CATEGORIES:Community
LOCATION:Lock #4 Coffee Shop\, 123 3rd street\, Beverly\, Ohio\, 45715\, Un
 ited States
GEO:39.546484;-81.641127
X-APPLE-STRUCTURED-LOCATION;VALUE=URI;X-ADDRESS=123 3rd street\, Beverly\, 
 Ohio\, 45715\, United States;X-APPLE-RADIUS=100;X-TITLE=Lock #4 Coffee Sho
 p:geo:39.546484,-81.641127
END:VEVENT
BEGIN:VTIMEZONE
TZID:America/New_York
X-LIC-LOCATION:America/New_York
BEGIN:DAYLIGHT
DTSTART:20240310T030000
TZOFFSETFROM:-0500
TZOFFSETTO:-0400
TZNAME:EDT
END:DAYLIGHT
END:VTIMEZONE
END:VCALENDAR