BEGIN:VCALENDAR
VERSION:2.0
PRODID:-//wp-events-plugin.com//7.2.3.1//EN
TZID:America/New_York
X-WR-TIMEZONE:America/New_York
BEGIN:VEVENT
UID:2280@mariettaohio.org
DTSTART;TZID=America/New_York:20250619T190000
DTEND;TZID=America/New_York:20250619T203000
DTSTAMP:20250528T133608Z
URL:https://mariettaohio.org/events/third-thursdays-with-the-castle-summer
 -solstice-concert/
SUMMARY:Third Thursdays with The Castle: Summer Solstice Concert
DESCRIPTION:The summer solstice is a celestial event that has been importan
 t to cultures around the world for thousands of years. At Marietta\, this 
 event was marked by Native Americans with alignments on the prehistoric ea
 rthworks. This year for the first time The Castle will celebrate the summe
 r solstice with an outdoor concert by the band R&amp\;R\, and commentary b
 y staff archaeologist Wes Clarke.\n\nAdmission is Free. Seating is limited
  and offered on a first come first serve basis.\n\nWe encourage guests to 
 bring their own folding chair or blanket\, but please note that we can not
  permit saving spaces on the grounds earlier than 6:30pm. While food and d
 rink are permitted on the grounds\, no alcoholic beverages are permitted a
 nd the lawn where the concert is taking place will be a smoke-free area. I
 n the case of inclement weather\, a rain date will be established.\n\nThis
  concert is generously sponsored by the Washington County Public Library
ATTACH;FMTTYPE=image/jpeg:https://mariettaohio.org/wp-content/uploads/2025
 /05/2024-Summer-Solstice-flower-foreground-scaled.jpg
CATEGORIES:Arts &amp;
 Entertainment,Community,Events,Featured,Historical,Music
LOCATION:The Castle\, 418 Fourth Street\, Marietta\, Ohio\, United States
GEO:39.4205438;-81.4548917
X-APPLE-STRUCTURED-LOCATION;VALUE=URI;X-ADDRESS=418 Fourth Street\, Mariett
 a\, Ohio\, United States;X-APPLE-RADIUS=100;X-TITLE=The Castle:geo:39.4205
 438,-81.4548917
END:VEVENT
BEGIN:VTIMEZONE
TZID:America/New_York
X-LIC-LOCATION:America/New_York
BEGIN:DAYLIGHT
DTSTART:20250309T030000
TZOFFSETFROM:-0500
TZOFFSETTO:-0400
TZNAME:EDT
END:DAYLIGHT
END:VTIMEZONE
END:VCALENDAR