BEGIN:VCALENDAR
VERSION:2.0
PRODID:-//wp-events-plugin.com//7.2.3.1//EN
TZID:America/New_York
X-WR-TIMEZONE:America/New_York
BEGIN:VEVENT
UID:942@mariettaohio.org
DTSTART;TZID=America/New_York:20230817T190000
DTEND;TZID=America/New_York:20230817T200000
DTSTAMP:20230802T141613Z
URL:https://mariettaohio.org/events/third-thursday-talk-a-brief-history-of
 -the-castles-new-old-persian-rug/
SUMMARY:Third Thursday Talk: “A Brief History of The Castle’s “New”
  Old Persian Rug”
DESCRIPTION:Thursday\, August 17th\, 2023 7pm – 8pm\n\nThe Castle parlor 
 has a “new” old rug! After several years of discussing\, researching\,
  and searching private and dealer offerings\, a vintage handmade “Persia
 n rug” was found and purchased to replace the heavily worn machine-made 
 rug in the parlor. Join us as Castle Collections Manger Wes Clarke and rug
  expert John DeWert discuss the origins\, design and manufacture of the re
 placement rug\, as well as general features of the oriental rug market.\n\
 nReservations Required. Space is Limited.\nhttps://mariettacastle.org/even
 ts/
ATTACH;FMTTYPE=image/jpeg:https://mariettaohio.org/wp-content/uploads/2023
 /07/rug.png
CATEGORIES:Arts &amp; Entertainment,Community,Events,Featured,Historical
LOCATION:The Castle\, 418 Fourth Street\, Marietta\, Ohio\, United States
GEO:39.4205438;-81.4548917
X-APPLE-STRUCTURED-LOCATION;VALUE=URI;X-ADDRESS=418 Fourth Street\, Mariett
 a\, Ohio\, United States;X-APPLE-RADIUS=100;X-TITLE=The Castle:geo:39.4205
 438,-81.4548917
END:VEVENT
BEGIN:VTIMEZONE
TZID:America/New_York
X-LIC-LOCATION:America/New_York
BEGIN:DAYLIGHT
DTSTART:20230312T030000
TZOFFSETFROM:-0500
TZOFFSETTO:-0400
TZNAME:EDT
END:DAYLIGHT
END:VTIMEZONE
END:VCALENDAR