BEGIN:VCALENDAR
VERSION:2.0
PRODID:-//wp-events-plugin.com//7.2.3.1//EN
TZID:America/New_York
X-WR-TIMEZONE:America/New_York
BEGIN:VEVENT
UID:2968@mariettaohio.org
DTSTART;TZID=America/New_York:20260416T180000
DTEND;TZID=America/New_York:20260416T200000
DTSTAMP:20260401T133922Z
URL:https://mariettaohio.org/events/third-thursday-community-day-and-volun
 teer-fair-2026/
SUMMARY:Third Thursday: Community Day and Volunteer Fair 2026
DESCRIPTION:Looking for a fun way to spend time with your community? Join u
 s for The Castle’s Community Day &amp\; Volunteer Fair—an evening of f
 ree activities\, local connections\, and opportunities to experience the m
 useum in a new way.\nBring your friends and family and enjoy a relaxed com
 munity celebration at the museum. Explore interactive exhibits\, try hands
 -on crafts\, and watch live demonstrations happening throughout the evenin
 g. Our friends at Rhododendron Ice Cream will also be on site selling thei
 r delicious hand-dipped ice cream\, making it the perfect outing for all a
 ges.\nAs part of the event\, you’ll also have the chance to learn how yo
 u can get more involved with the museum. Meet current volunteers and staff
 \, hear about their experiences\, and discover the many ways community mem
 bers help bring history to life—from leading tours and helping with fiel
 d trips to assisting with special events\, archaeology digs\, and behind-t
 he-scenes projects.\n\nWhy Attend?\n ✔ Enjoy a free\, family-friendly co
 mmunity event\n✔ Explore the museum through activities and demonstration
 s\n✔ Connect with neighbors and local organizations\n✔ Learn about way
 s to get involved as a volunteer\nWhether you’re curious about volunteer
 ing or simply looking for a welcoming community event\, we invite you to s
 pend the evening with us celebrating local history and the people who help
  keep it alive.\nWe can’t wait to see you there!\nIf you have any questi
 ons\, please contact us at 740-373-4180 or education@mariettacastle.org.
ATTACH;FMTTYPE=image/jpeg:https://mariettaohio.org/wp-content/uploads/2026
 /04/TheCastleMuseum-VolunteerFair.webp
CATEGORIES:Community,Events
LOCATION:The Castle\, 418 Fourth Street\, Marietta\, Ohio\, United States
GEO:39.4205438;-81.4548917
X-APPLE-STRUCTURED-LOCATION;VALUE=URI;X-ADDRESS=418 Fourth Street\, Mariett
 a\, Ohio\, United States;X-APPLE-RADIUS=100;X-TITLE=The Castle:geo:39.4205
 438,-81.4548917
END:VEVENT
BEGIN:VTIMEZONE
TZID:America/New_York
X-LIC-LOCATION:America/New_York
BEGIN:DAYLIGHT
DTSTART:20260308T030000
TZOFFSETFROM:-0500
TZOFFSETTO:-0400
TZNAME:EDT
END:DAYLIGHT
END:VTIMEZONE
END:VCALENDAR