BEGIN:VCALENDAR
VERSION:2.0
PRODID:-//wp-events-plugin.com//7.2.3.1//EN
TZID:America/New_York
X-WR-TIMEZONE:America/New_York
BEGIN:VEVENT
UID:1380@mariettaohio.org
DTSTART;TZID=America/New_York:20240203T183000
DTEND;TZID=America/New_York:20240203T200000
DTSTAMP:20240119T143931Z
URL:https://mariettaohio.org/events/the-new-nitpickers/
SUMMARY:The New Nitpickers
DESCRIPTION:The New Nitpickers 6:30pm at The Cornerstone Inn is located at 
 201 Fifth Street\, Beverly.
ATTACH;FMTTYPE=image/jpeg:https://mariettaohio.org/wp-content/uploads/2024
 /01/nitpickers.jpg
CATEGORIES:Arts &amp; Entertainment
LOCATION:Cornerstone Inn Restaurant\, 201 5th Street \, Beverly\, Ohio\, 45
 715\, United States
X-APPLE-STRUCTURED-LOCATION;VALUE=URI;X-ADDRESS=201 5th Street \, Beverly\,
  Ohio\, 45715\, United States;X-APPLE-RADIUS=100;X-TITLE=Cornerstone Inn R
 estaurant:geo:0,0
END:VEVENT
BEGIN:VTIMEZONE
TZID:America/New_York
X-LIC-LOCATION:America/New_York
BEGIN:STANDARD
DTSTART:20231105T010000
TZOFFSETFROM:-0400
TZOFFSETTO:-0500
TZNAME:EST
END:STANDARD
END:VTIMEZONE
END:VCALENDAR