BEGIN:VCALENDAR
VERSION:2.0
PRODID:-//wp-events-plugin.com//7.2.3.1//EN
TZID:America/New_York
X-WR-TIMEZONE:America/New_York
BEGIN:VEVENT
UID:2291@mariettaohio.org
DTSTART;TZID=America/New_York:20250617T180000
DTEND;TZID=America/New_York:20250617T200000
DTSTAMP:20250528T160522Z
URL:https://mariettaohio.org/events/taco-tuesday-dinner-cruise-2/
SUMMARY:Taco Tuesday Dinner Cruise
DESCRIPTION:This summer enjoy a new Valley Gem tradition in the form of Tac
 o Tuesday. One Tuesday every month during the summer\, the Major/Riviera w
 ill be taking a Taco Tuesday cruise where you can enjoy a two hour cruise 
 on the Ohio River while dining on some pretty magnificent Mexican cuisine.
  Don't miss your chance.\n\nMay 20\, June 17\, July 15\, August 12\n6pm to
  8pm\n\n$38 for Adults\, $36 for Seniors\, $28 for Children 3-12\n\nBook O
 nline at www.valleygemsternwheeler.com or call 740-373-7862
ATTACH;FMTTYPE=image/jpeg:https://mariettaohio.org/wp-content/uploads/2025
 /05/Taco-Tuesday-scaled.jpg
CATEGORIES:Events,Tours
LOCATION:Major/Riviera\, 601 Front Street\, Marietta\, OH\, 45750\, United 
 States
X-APPLE-STRUCTURED-LOCATION;VALUE=URI;X-ADDRESS=601 Front Street\, Marietta
 \, OH\, 45750\, United States;X-APPLE-RADIUS=100;X-TITLE=Major/Riviera:geo
 :0,0
END:VEVENT
BEGIN:VTIMEZONE
TZID:America/New_York
X-LIC-LOCATION:America/New_York
BEGIN:DAYLIGHT
DTSTART:20250309T030000
TZOFFSETFROM:-0500
TZOFFSETTO:-0400
TZNAME:EDT
END:DAYLIGHT
END:VTIMEZONE
END:VCALENDAR