BEGIN:VCALENDAR
VERSION:2.0
PRODID:-//wp-events-plugin.com//7.2.3.1//EN
TZID:America/New_York
X-WR-TIMEZONE:America/New_York
BEGIN:VEVENT
UID:2053@mariettaohio.org
DTSTART;TZID=America/New_York:20250125T110000
DTEND;TZID=America/New_York:20250125T140000
DTSTAMP:20241217T140830Z
URL:https://mariettaohio.org/events/super-saturday-snowed-in/
SUMMARY:Super Saturday - Snowed In
DESCRIPTION:On Saturday\, January 25 stop by for “Snowed In Saturday” b
 etween 11 am and 1 pm\, with sensory sensitive accommodations from 1 to 2 
 pm. Enjoy family-friendly activities at your own pace including crafts\, l
 istening to books\, face painting by Jody Targonski\, and a hot chocolate 
 bar. This event is open to all ages and no registration is required. Quest
 ions? Call 740-984-4060.
ATTACH;FMTTYPE=image/jpeg:https://mariettaohio.org/wp-content/uploads/2024
 /12/Purple-Snow-Winter-Activities-Poster-scaled.jpg
CATEGORIES:Community
LOCATION:Washington County Public Library - Beverly\, 300 McIntosh Street\,
  Beverly\, OH Ohio\, 45715\, United States
GEO:39.547312;-81.634118
X-APPLE-STRUCTURED-LOCATION;VALUE=URI;X-ADDRESS=300 McIntosh Street\, Bever
 ly\, OH Ohio\, 45715\, United States;X-APPLE-RADIUS=100;X-TITLE=Washington
  County Public Library - Beverly:geo:39.547312,-81.634118
END:VEVENT
BEGIN:VTIMEZONE
TZID:America/New_York
X-LIC-LOCATION:America/New_York
BEGIN:STANDARD
DTSTART:20241103T010000
TZOFFSETFROM:-0400
TZOFFSETTO:-0500
TZNAME:EST
END:STANDARD
END:VTIMEZONE
END:VCALENDAR