BEGIN:VCALENDAR
VERSION:2.0
PRODID:-//wp-events-plugin.com//7.2.3.1//EN
TZID:America/New_York
X-WR-TIMEZONE:America/New_York
BEGIN:VEVENT
UID:2055@mariettaohio.org
DTSTART;TZID=America/New_York:20250329T110000
DTEND;TZID=America/New_York:20250329T140000
DTSTAMP:20241217T143728Z
URL:https://mariettaohio.org/events/super-saturday-baby-shower/
SUMMARY:Super Saturday - Baby Shower
DESCRIPTION:On Saturday\, March 29 stop by for “Baby Shower” between 11
  am and 1 pm\, with sensory sensitive accommodations from 1 to 2 pm. Enjoy
  family-friendly activities at your own pace including crafts\, listening 
 to books\, games\, and a petting zoo. This event is open to all ages and n
 o registration is required. Questions? Call 740-984-4060.
ATTACH;FMTTYPE=image/jpeg:https://mariettaohio.org/wp-content/uploads/2024
 /12/Brown-Cute-Farm-Animal-Baby-Shower-Invitation.jpg
CATEGORIES:Community
LOCATION:Washington County Public Library - Beverly\, 300 McIntosh Street\,
  Beverly\, OH Ohio\, 45715\, United States
GEO:39.547312;-81.634118
X-APPLE-STRUCTURED-LOCATION;VALUE=URI;X-ADDRESS=300 McIntosh Street\, Bever
 ly\, OH Ohio\, 45715\, United States;X-APPLE-RADIUS=100;X-TITLE=Washington
  County Public Library - Beverly:geo:39.547312,-81.634118
END:VEVENT
BEGIN:VTIMEZONE
TZID:America/New_York
X-LIC-LOCATION:America/New_York
BEGIN:DAYLIGHT
DTSTART:20250309T030000
TZOFFSETFROM:-0500
TZOFFSETTO:-0400
TZNAME:EDT
END:DAYLIGHT
END:VTIMEZONE
END:VCALENDAR