BEGIN:VCALENDAR
VERSION:2.0
PRODID:-//wp-events-plugin.com//7.2.3.1//EN
TZID:America/New_York
X-WR-TIMEZONE:America/New_York
BEGIN:VEVENT
UID:2979@mariettaohio.org
DTSTART;TZID=America/New_York:20260620T110000
DTEND;TZID=America/New_York:20260620T160000
DTSTAMP:20260401T141745Z
URL:https://mariettaohio.org/events/summer-shop-hop/
SUMMARY:Summer Shop Hop
DESCRIPTION:Shop and eat downtown for our Summer Shop Hop. Shops will have 
 sales and specials while celebrating the Summer season. Look for the ballo
 ons in front of participating shops. Each entry at those locations enters 
 you in a drawing to win a prize basket with goodies from all participating
  shops.
ATTACH;FMTTYPE=image/jpeg:https://mariettaohio.org/wp-content/uploads/2026
 /04/2026ShopHopFacebookEventCover2.webp
CATEGORIES:Community,Food &amp; Drink,Shopping
LOCATION:Marietta Main Street\, 241 Front Street\, Marietta\, OH\, 45750\, 
 United States
X-APPLE-STRUCTURED-LOCATION;VALUE=URI;X-ADDRESS=241 Front Street\, Marietta
 \, OH\, 45750\, United States;X-APPLE-RADIUS=100;X-TITLE=Marietta Main Str
 eet:geo:0,0
END:VEVENT
BEGIN:VTIMEZONE
TZID:America/New_York
X-LIC-LOCATION:America/New_York
BEGIN:DAYLIGHT
DTSTART:20260308T030000
TZOFFSETFROM:-0500
TZOFFSETTO:-0400
TZNAME:EDT
END:DAYLIGHT
END:VTIMEZONE
END:VCALENDAR