BEGIN:VCALENDAR
VERSION:2.0
PRODID:-//wp-events-plugin.com//7.2.3.1//EN
TZID:America/New_York
X-WR-TIMEZONE:America/New_York
BEGIN:VEVENT
UID:2296@mariettaohio.org
DTSTART;TZID=America/New_York:20250622T130000
DTEND;TZID=America/New_York:20250622T150000
DTSTAMP:20250528T162212Z
URL:https://mariettaohio.org/events/strings-sunday-cruise/
SUMMARY:Strings Sunday Cruise
DESCRIPTION:This will be the third season for Strings Sunday. It is a crew 
 favorite and one of our most relaxing events. We will have strings instrum
 ents playing popular music\, much of which you will surely recognize. This
  is a lovely way to spend and afternoon on the river with beautiful music 
 and delicious food.\n\n$49 for Adults\, $47 for Seniors\, $39 for Children
  3-12\n\nBook online at www.valleygemsternwheeler.com or call 740-373-7862
ATTACH;FMTTYPE=image/jpeg:https://mariettaohio.org/wp-content/uploads/2025
 /05/Strings-Sunday-2023.jpg
CATEGORIES:Arts &amp; Entertainment,Events,Music,Tours
LOCATION:Major/Riviera\, 601 Front Street\, Marietta\, OH\, 45750\, United 
 States
X-APPLE-STRUCTURED-LOCATION;VALUE=URI;X-ADDRESS=601 Front Street\, Marietta
 \, OH\, 45750\, United States;X-APPLE-RADIUS=100;X-TITLE=Major/Riviera:geo
 :0,0
END:VEVENT
BEGIN:VTIMEZONE
TZID:America/New_York
X-LIC-LOCATION:America/New_York
BEGIN:DAYLIGHT
DTSTART:20250309T030000
TZOFFSETFROM:-0500
TZOFFSETTO:-0400
TZNAME:EDT
END:DAYLIGHT
END:VTIMEZONE
END:VCALENDAR