BEGIN:VCALENDAR
VERSION:2.0
PRODID:-//wp-events-plugin.com//7.2.3.1//EN
TZID:America/New_York
X-WR-TIMEZONE:America/New_York
BEGIN:VEVENT
UID:936@mariettaohio.org
DTSTART;TZID=America/New_York:20230812T200000
DTEND;TZID=America/New_York:20230812T234500
DTSTAMP:20230727T124450Z
URL:https://mariettaohio.org/events/sockdolager-stupid-head-and-sadsquatch
 /
SUMMARY:Sockdolager\, Stupid Head\, and Sadsquatch
DESCRIPTION:SOCKDOLAGER\nA three-piece boy band from Marietta\, OH.\n\nSTUP
 ID HEAD\nHeavy Psych Rock from Morgantown\, WV\n\nSADSQUATCH\nMade up of S
 eth Anderson on vocals\, Nate Shahan and Jimmy Woodward on guitar\, Dan Le
 e on bass\, and Jake Dunn on drums\, Sadsquatch is a sonic amalgamation of
  a purposefully chaotic array of diverse influences. Like an idiosyncratic
  antenna for a FM radio in an alternative dimension\, bandleader Seth Ande
 rson opens himself up to narrating everything from delirious\, heavy-hitti
 ng Led Zeppelin-level sonic sludge to hopped up\, groove-laden indie rock 
 that borrows unashamedly from the delectable memory residue of the alterna
 tive rock '00s.
ATTACH;FMTTYPE=image/jpeg:https://mariettaohio.org/wp-content/uploads/2023
 /07/social-image.png
CATEGORIES:Music
LOCATION:The Adelphia Music Hall\, 205 2nd St\, Marietta\, OH\, 45750\, Uni
 ted States
GEO:39.413719;-81.453701
X-APPLE-STRUCTURED-LOCATION;VALUE=URI;X-ADDRESS=205 2nd St\, Marietta\, OH\
 , 45750\, United States;X-APPLE-RADIUS=100;X-TITLE=The Adelphia Music Hall
 :geo:39.413719,-81.453701
END:VEVENT
BEGIN:VTIMEZONE
TZID:America/New_York
X-LIC-LOCATION:America/New_York
BEGIN:DAYLIGHT
DTSTART:20230312T030000
TZOFFSETFROM:-0500
TZOFFSETTO:-0400
TZNAME:EDT
END:DAYLIGHT
END:VTIMEZONE
END:VCALENDAR