BEGIN:VCALENDAR
VERSION:2.0
PRODID:-//wp-events-plugin.com//7.2.3.1//EN
TZID:America/New_York
X-WR-TIMEZONE:America/New_York
BEGIN:VEVENT
UID:2044@mariettaohio.org
DTSTART;TZID=America/New_York:20250426T200000
DTEND;TZID=America/New_York:20250426T220000
DTSTAMP:20241209T154907Z
URL:https://mariettaohio.org/events/shenandoah-live-in-concert/
SUMMARY:Shenandoah Live in Concert
DESCRIPTION:GRAMMY®\, CMA and ACM-winning hitmakers Shenandoah\, fueled by
  Marty Raybon’s distinctive vocals and the band’s skilled musicianship
 \, are celebrated for delivering such hits as “Two Dozen Roses”\, “C
 hurch on Cumberland Road” and “Next to You\, Next to Me” as well as 
 such achingly beautiful classics as “I Want to be Loved Like That” and
  the GRAMMY® winning “Somewhere in the Vicinity of the Heart” duet wi
 th Alison Krauss.\n\nTo date\, the group has sold millions of albums world
 wide and has over 300 million on-demand streams. Raybon and McGuire formed
  Shenandoah in 1984 in Muscle Shoals\, Alabama with bassist Ralph Ezell\, 
 keyboardist Stan Thorn and guitarist Jim Seales. Shenandoah inked a deal w
 ith Columbia Records and began establishing a national fan base with their
  self-titled debut in 1987. However\, it was the band’s sophomore effort
 \, The Road Not Taken\, that spawned their first top ten hits “She Doesn
 ’t Cry Anymore” and “Mama Knows.” Shenandoah followed with three c
 onsecutive No. 1 hits “Church on Cumberland Road\,” “Sunday in the S
 outh” and “Two Dozen Roses.”\n\n“The Church on Cumberland Road” 
 spent two weeks at the top of the chart and made country music history as 
 it marked the first time that a country band’s first No. 1 single spent 
 more than one week at the summit. Shenandoah became known for delivering s
 ongs that celebrated the importance of faith and family while reveling in 
 the joys of small-town life. “Next to You\, Next to Me” topped the cha
 rts for three weeks and “Somewhere in the Vicinity of the Heart\,” a b
 eautiful duet with Alison Krauss\, won a Country Music Association Award f
 or Vocal Event of the year and a GRAMMY® for Best Country Performance by 
 a Duo or Group with Vocal. Shenandoah also won the Academy of Country Musi
 c’s Vocal Group of the Year in 1991.For more information\, visit shenand
 oahband.com
ATTACH;FMTTYPE=image/jpeg:https://mariettaohio.org/wp-content/uploads/2024
 /12/doah-495-.png
CATEGORIES:Arts &amp; Entertainment,Music
LOCATION:Peoples Bank Theatre\, 222 Putnam St\, Marietta\, Ohio\, 45750\, U
 nited States
GEO:39.415852;-81.453433
X-APPLE-STRUCTURED-LOCATION;VALUE=URI;X-ADDRESS=222 Putnam St\, Marietta\, 
 Ohio\, 45750\, United States;X-APPLE-RADIUS=100;X-TITLE=Peoples Bank Theat
 re:geo:39.415852,-81.453433
END:VEVENT
BEGIN:VTIMEZONE
TZID:America/New_York
X-LIC-LOCATION:America/New_York
BEGIN:DAYLIGHT
DTSTART:20250309T030000
TZOFFSETFROM:-0500
TZOFFSETTO:-0400
TZNAME:EDT
END:DAYLIGHT
END:VTIMEZONE
END:VCALENDAR