BEGIN:VCALENDAR
VERSION:2.0
PRODID:-//wp-events-plugin.com//7.2.3.1//EN
TZID:America/New_York
X-WR-TIMEZONE:America/New_York
BEGIN:VEVENT
UID:1660@mariettaohio.org
DTSTART;TZID=America/New_York:20240629T183000
DTEND;TZID=America/New_York:20240629T203000
DTSTAMP:20240606T163758Z
URL:https://mariettaohio.org/events/sense-and-sensibility-dinner-theater-c
 ruise-2/
SUMMARY:Sense and Sensibility Dinner Theater Cruise
DESCRIPTION:Join us for a Summer of Jane Austen on the Major/Riviera. We wi
 ll be presenting four one act adaptations of some of Jane Austen’s most 
 famous works. Each event will include dinner\, the performance\, and a two
  hour riverboat cruise.\n\nSense and Sensibility: June 15th\, 28th\, and 2
 9th\n\nPersuasion: July 13th\, 19th\, and 20th\n\nDarcy and Elizabeth (Pri
 de and Prejudice)- August 24th\, 30th\, 31st\n\nBook now by calling 740-37
 3-7862 or visit "Book Major/Riviera" at www.valleygemsternwheeler.com
ATTACH;FMTTYPE=image/jpeg:https://mariettaohio.org/wp-content/uploads/2024
 /06/Sense-Sensibility-1.jpg
CATEGORIES:Arts &amp; Entertainment
LOCATION:Major/Riviera\, 601 Front Street\, Marietta\, OH\, 45750\, United 
 States
X-APPLE-STRUCTURED-LOCATION;VALUE=URI;X-ADDRESS=601 Front Street\, Marietta
 \, OH\, 45750\, United States;X-APPLE-RADIUS=100;X-TITLE=Major/Riviera:geo
 :0,0
END:VEVENT
BEGIN:VTIMEZONE
TZID:America/New_York
X-LIC-LOCATION:America/New_York
BEGIN:DAYLIGHT
DTSTART:20240310T030000
TZOFFSETFROM:-0500
TZOFFSETTO:-0400
TZNAME:EDT
END:DAYLIGHT
END:VTIMEZONE
END:VCALENDAR