BEGIN:VCALENDAR
VERSION:2.0
PRODID:-//wp-events-plugin.com//7.2.3.1//EN
TZID:America/New_York
X-WR-TIMEZONE:America/New_York
BEGIN:VEVENT
UID:2267@mariettaohio.org
DTSTART;TZID=America/New_York:20250510T140000
DTEND;TZID=America/New_York:20250510T153000
DTSTAMP:20250506T125522Z
URL:https://mariettaohio.org/events/seed-your-own-tea-workshop/
SUMMARY:Seed-Your-Own Tea Workshop
DESCRIPTION:Come out to Marietta's herbal tea farm and seed your own herbal
  tea to take home and grow! We will be seeding pots of Chamomile\, Tulsi\,
  Lemon Balm\, and Calendula and talking about their medicinal properties a
 nd how to harvest them for tea. This is a kid-friendly event! Cost is $25 
 per kit of four pots. Registration is required on the farm's website:\n\nh
 ttps://kettlefarm.com/2025/04/22/seed-your-own-tea-workshop/
CATEGORIES:Outdoor Recreation
LOCATION:Little Muskingum Kettle Farm\, 567 Jett Hill Rd\, Marietta\, OH\, 
 45750\, United States
X-APPLE-STRUCTURED-LOCATION;VALUE=URI;X-ADDRESS=567 Jett Hill Rd\, Marietta
 \, OH\, 45750\, United States;X-APPLE-RADIUS=100;X-TITLE=Little Muskingum 
 Kettle Farm:geo:0,0
END:VEVENT
BEGIN:VTIMEZONE
TZID:America/New_York
X-LIC-LOCATION:America/New_York
BEGIN:DAYLIGHT
DTSTART:20250309T030000
TZOFFSETFROM:-0500
TZOFFSETTO:-0400
TZNAME:EDT
END:DAYLIGHT
END:VTIMEZONE
END:VCALENDAR