BEGIN:VCALENDAR
VERSION:2.0
PRODID:-//wp-events-plugin.com//7.2.3.1//EN
TZID:America/New_York
X-WR-TIMEZONE:America/New_York
BEGIN:VEVENT
UID:58@mariettaohio.org
DTSTART;TZID=America/New_York:20221210T140000
DTEND;TZID=America/New_York:20221210T180000
DTSTAMP:20221116T170201Z
URL:https://mariettaohio.org/events/saturdays-with-santa/
SUMMARY:Saturdays with Santa
DESCRIPTION:Celebrate the holidays with Santa at Pennington's Hallmark! Bri
 ng your kids for hot cocoa\, cookies\, and photos with Santa!\n\nSign up o
 nline to reserve your photo slot and receive a 10% coupon to Hallmark! Wal
 k-ups are welcome\, but we encourage reserving your spot online. Visit: pe
 nningtonshallmark.com/santa to reserve your spot now!
ATTACH;FMTTYPE=image/jpeg:https://mariettaohio.org/wp-content/uploads/2022
 /11/314002604_138955062270136_3295981596598121313_n-8.jpg
CATEGORIES:Events
LOCATION:Pennington's Hallmark\, 208 Acme Street\, Marietta\, Ohio\, 45750\
 , United States
GEO:39.418244;-81.427877
X-APPLE-STRUCTURED-LOCATION;VALUE=URI;X-ADDRESS=208 Acme Street\, Marietta\
 , Ohio\, 45750\, United States;X-APPLE-RADIUS=100;X-TITLE=Pennington's Hal
 lmark:geo:39.418244,-81.427877
END:VEVENT
BEGIN:VTIMEZONE
TZID:America/New_York
X-LIC-LOCATION:America/New_York
BEGIN:STANDARD
DTSTART:20221106T010000
TZOFFSETFROM:-0400
TZOFFSETTO:-0500
TZNAME:EST
END:STANDARD
END:VTIMEZONE
END:VCALENDAR