BEGIN:VCALENDAR
VERSION:2.0
PRODID:-//wp-events-plugin.com//7.2.3.1//EN
TZID:America/New_York
X-WR-TIMEZONE:America/New_York
BEGIN:VEVENT
UID:3012@mariettaohio.org
DTSTART;TZID=America/New_York:20261129T180000
DTEND;TZID=America/New_York:20261129T200000
DTSTAMP:20260401T173116Z
URL:https://mariettaohio.org/events/santa-house-at-east-muskingum-park/
SUMMARY:Santa House at East Muskingum Park
DESCRIPTION:Santa Houses are pop-up\, free experiences located in the Gazeb
 o of East Muskingum Park that invites local families to visit with Santa C
 laus. Folks are invited to snap photos of their children\, pets\, friends\
 , and family all free of charge. Visitors to the Santa House enjoy hot coc
 oa and cookies provided by area nonprofits\, plus the beautiful views of o
 ur Holiday Tree Walk!\nInside the Gazebo\, Santa Claus will be sitting in 
 his chair ready to have his photo taken with residents from across the MOV
  totally free of charge. Grab your friends and family members\, your kiddo
 s and your doggos\, and come snap a picture with Santa!\nThose wanting pho
 tos are responsible for taking them on their own\, meaning a camera or mob
 ile phone with camera capabilities will need to be used. Volunteers will b
 e on hand to help take group photos as requested!
CATEGORIES:Children,Community,Family
LOCATION:East Muskingum Park\, East Muskingum Park\, Marietta\, Ohio\, 4575
 0\, United States
GEO:39.4149549;-81.4570803
X-APPLE-STRUCTURED-LOCATION;VALUE=URI;X-ADDRESS=East Muskingum Park\, Marie
 tta\, Ohio\, 45750\, United States;X-APPLE-RADIUS=100;X-TITLE=East Musking
 um Park:geo:39.4149549,-81.4570803
END:VEVENT
BEGIN:VTIMEZONE
TZID:America/New_York
X-LIC-LOCATION:America/New_York
BEGIN:STANDARD
DTSTART:20261101T010000
TZOFFSETFROM:-0400
TZOFFSETTO:-0500
TZNAME:EST
END:STANDARD
END:VTIMEZONE
END:VCALENDAR