BEGIN:VCALENDAR
VERSION:2.0
PRODID:-//wp-events-plugin.com//7.2.3.1//EN
TZID:America/New_York
X-WR-TIMEZONE:America/New_York
BEGIN:VEVENT
UID:2852@mariettaohio.org
DTSTART;TZID=America/New_York:20260501T180000
DTEND;TZID=America/New_York:20260501T200000
DTSTAMP:20260218T192507Z
URL:https://mariettaohio.org/events/route-66-dinner-cruise/
SUMMARY:Route 66 Dinner Cruise
DESCRIPTION:Take a ride on Route 66 with us as we celebrate the historic ro
 adway featuring dishes from towns that run along the famous highway. Featu
 ring live entertainment from our Company singers as well as a delicious di
 nner. Bar services will be available as we cruise on the Ohio River.\n\nMa
 y 1\, 6:00pm to 8:00pm\n$48 for Adult\, $46 for Seniors\, $38 for Children
  3-12\n\nCall 740-373-7862 or visit www.valleygemsternwheeler.com
ATTACH;FMTTYPE=image/jpeg:https://mariettaohio.org/wp-content/uploads/2026
 /02/Route-66-Dinner-Cruise.jpg
CATEGORIES:Arts &amp; Entertainment,Events
LOCATION:Valley Gem Sternwheeler\, 601 Front St\, Marietta\, Ohio\, 45750\,
  United States
GEO:39.421017;-81.463989
X-APPLE-STRUCTURED-LOCATION;VALUE=URI;X-ADDRESS=601 Front St\, Marietta\, O
 hio\, 45750\, United States;X-APPLE-RADIUS=100;X-TITLE=Valley Gem Sternwhe
 eler:geo:39.421017,-81.463989
END:VEVENT
BEGIN:VTIMEZONE
TZID:America/New_York
X-LIC-LOCATION:America/New_York
BEGIN:DAYLIGHT
DTSTART:20260308T030000
TZOFFSETFROM:-0500
TZOFFSETTO:-0400
TZNAME:EDT
END:DAYLIGHT
END:VTIMEZONE
END:VCALENDAR