BEGIN:VCALENDAR
VERSION:2.0
PRODID:-//wp-events-plugin.com//7.2.3.1//EN
TZID:America/New_York
X-WR-TIMEZONE:America/New_York
BEGIN:VEVENT
UID:2299@mariettaohio.org
DTSTART;TZID=America/New_York:20250628T180000
DTEND;TZID=America/New_York:20250628T210000
DTSTAMP:20250529T144151Z
URL:https://mariettaohio.org/events/rock-and-roll-dinner-cruise-2/
SUMMARY:Rock and Roll Dinner Cruise
DESCRIPTION:Plan to join us for one of our Rock and Roll Dinner Cruises. On
  Saturday\, June 28 and Saturday\, August 23 from 6pm to 9pm\, enjoy a gre
 at dinner followed by live music from the Gypsy River Band on the upper de
 ck (weather permitting). Reservations are required.\n\nJune 28\, 6pm to 9p
 m (Major/Riviera)\nAugust 23\, 6pm to 9pm (Valley Gem)\n\n$49 for Adults\,
  $47 for Seniors\, $39 for Children 3-12\n\nBook online at www.valleygemst
 ernwheeler.com or call 740-373-7862
ATTACH;FMTTYPE=image/jpeg:https://mariettaohio.org/wp-content/uploads/2025
 /05/Rock-and-Roll-Dinner-Cruise.jpg
CATEGORIES:Arts &amp; Entertainment,Events,Music
LOCATION:Major/Riviera\, 601 Front Street\, Marietta\, OH\, 45750\, United 
 States
X-APPLE-STRUCTURED-LOCATION;VALUE=URI;X-ADDRESS=601 Front Street\, Marietta
 \, OH\, 45750\, United States;X-APPLE-RADIUS=100;X-TITLE=Major/Riviera:geo
 :0,0
END:VEVENT
BEGIN:VTIMEZONE
TZID:America/New_York
X-LIC-LOCATION:America/New_York
BEGIN:DAYLIGHT
DTSTART:20250309T030000
TZOFFSETFROM:-0500
TZOFFSETTO:-0400
TZNAME:EDT
END:DAYLIGHT
END:VTIMEZONE
END:VCALENDAR