BEGIN:VCALENDAR
VERSION:2.0
PRODID:-//wp-events-plugin.com//7.2.3.1//EN
TZID:America/New_York
X-WR-TIMEZONE:America/New_York
BEGIN:VEVENT
UID:938@mariettaohio.org
DTSTART;TZID=America/New_York:20230819T180000
DTEND;TZID=America/New_York:20230819T234500
DTSTAMP:20230727T124706Z
URL:https://mariettaohio.org/events/robbie-fulks/
SUMMARY:Robbie Fulks
DESCRIPTION:ENJOY AN INTIMATE DINNER AND SHOW EXPERIENCE WITH AMERICAN ALTE
 RNATIVE COUNTRY SINGER/SONGWRITER AND INSTRUMENTALIST\, ROBBIE FULKS!\nVIP
  Table: $140 - 4 Seats/Tickets - Closest Tables to The Stage *limited quan
 tity*\nTable: $120 - 4 Seats/Tickets - Assigned Seating *limited quantity*
 \nGeneral Admission: $20 - Standing Room Only - Balcony Access Available\n
 Doors open at 6 for Dinner Service | Show starts at 8\n\nRobbie Fulks is a
  singer\, recording artist\, instrumentalist\, composer\, and songwriter. 
 His current release\, Bluegrass Vacation on Compass Records\, returns him 
 to his bluegrass roots\, with a large group of masterful musicians includi
 ng Sam Bush\, Jerry Douglas\, Justin Moses\, Ronnie McCoury\, Alison Brown
 \, David Grier\, Tim O’Brien\, Todd Phillips\, John Cowan\, Brennen Leig
 h\, Randy Kohrs\, Sierra Hull\, Stuart Duncan\, Shad Cobb\, and Chris Eldr
 idge. Across 11 new original songs (and one freewheeling interpretation of
  the Delmore Brothers)\, Robbie covers themes like small-town blues\, the 
 endurance of childhood memory\, inebriation\, love\, divorce\, the role of
  music in strengthening family bonds\, losing a loved one to Alzheimer’s
 \, and bluegrass itself.\n\nHis most recent release\, 2017’s Upland Stor
 ies\, earned year’s-best recognition from NPR and Rolling Stone among ma
 ny others\, as well as two Grammy® nominations\, for folk album and Ameri
 can roots song (“Alabama At Night”).
ATTACH;FMTTYPE=image/jpeg:https://mariettaohio.org/wp-content/uploads/2023
 /07/03136-ADL-Instagram1.jpg
CATEGORIES:Music
LOCATION:The Adelphia Music Hall\, 205 2nd St\, Marietta\, OH\, 45750\, Uni
 ted States
GEO:39.413719;-81.453701
X-APPLE-STRUCTURED-LOCATION;VALUE=URI;X-ADDRESS=205 2nd St\, Marietta\, OH\
 , 45750\, United States;X-APPLE-RADIUS=100;X-TITLE=The Adelphia Music Hall
 :geo:39.413719,-81.453701
END:VEVENT
BEGIN:VTIMEZONE
TZID:America/New_York
X-LIC-LOCATION:America/New_York
BEGIN:DAYLIGHT
DTSTART:20230312T030000
TZOFFSETFROM:-0500
TZOFFSETTO:-0400
TZNAME:EDT
END:DAYLIGHT
END:VTIMEZONE
END:VCALENDAR