BEGIN:VCALENDAR
VERSION:2.0
PRODID:-//wp-events-plugin.com//7.2.3.1//EN
TZID:America/New_York
X-WR-TIMEZONE:America/New_York
BEGIN:VEVENT
UID:408@mariettaohio.org
DTSTART;TZID=America/New_York:20230211T150000
DTEND;TZID=America/New_York:20230218T210000
DTSTAMP:20230209T160125Z
URL:https://mariettaohio.org/events/riverbend-family-dining-valentines-spe
 cials/
SUMMARY:Riverbend Family Dining Valentine's Specials
DESCRIPTION:\nWe are the place to be on Valentine's!!!\nFind that someone s
 pecial and come enjoy some food!\n\n\nFeb 11th to the 18th!!!\n\n\n
ATTACH;FMTTYPE=image/jpeg:https://mariettaohio.org/wp-content/uploads/2023
 /02/327083973_905192317184239_3294535773472816948_n.jpg
CATEGORIES:Community,Events,Featured
LOCATION:Riverbend Family Dining\, 415 5th Street\, Beverly\, Ohio\, 45715\
 , United States
GEO:39.549104;-81.631735
X-APPLE-STRUCTURED-LOCATION;VALUE=URI;X-ADDRESS=415 5th Street\, Beverly\, 
 Ohio\, 45715\, United States;X-APPLE-RADIUS=100;X-TITLE=Riverbend Family D
 ining:geo:39.549104,-81.631735
END:VEVENT
BEGIN:VTIMEZONE
TZID:America/New_York
X-LIC-LOCATION:America/New_York
BEGIN:STANDARD
DTSTART:20221106T010000
TZOFFSETFROM:-0400
TZOFFSETTO:-0500
TZNAME:EST
END:STANDARD
END:VTIMEZONE
END:VCALENDAR