BEGIN:VCALENDAR
VERSION:2.0
PRODID:-//wp-events-plugin.com//7.2.3.1//EN
TZID:America/New_York
X-WR-TIMEZONE:America/New_York
BEGIN:VEVENT
UID:2139@mariettaohio.org
DTSTART;TZID=America/New_York:20250308T193000
DTEND;TZID=America/New_York:20250308T213000
DTSTAMP:20250224T141431Z
URL:https://mariettaohio.org/events/rabbit-hole-2025-03-08/
SUMMARY:Rabbit Hole
DESCRIPTION:The Mid Ohio Valley Players present David Lindsay-Abaire's Puli
 tzer Prize winning drama\, Rabbit Hole on March 7\, 8\, 14\, 15 at 7:00 p.
 m. and March 16 at 3:00 p.m. This beautifully crafted work takes us throug
 h the the rabbit holes we all escape to when faced with grief we do not th
 ink we can bear. This excellent cast\, Vanessa Koon Rake and Tim Tuten as 
 Becca and Howie Corbett\, Kathy Biery as Nat\, Beth Lane as Izzy\, and Mil
 es McGregor as Miles\, help us to find the humor midst the sadness and the
  light that eventually leads out of the darkness. Tickets are $13.00 and a
 vailable at https://www.midohiovalleyplayers.com/collections/2024-2025-sea
 son/products/rabbit-hole .\n.
ATTACH;FMTTYPE=image/jpeg:https://mariettaohio.org/wp-content/uploads/2025
 /02/Rabbit-hole-promo.jpg
CATEGORIES:Arts &amp; Entertainment
LOCATION:Mid Ohio Valley Players\, 229 Putnam Street\, Marietta\, Ohio\, 45
 750\, United States
X-APPLE-STRUCTURED-LOCATION;VALUE=URI;X-ADDRESS=229 Putnam Street\, Mariett
 a\, Ohio\, 45750\, United States;X-APPLE-RADIUS=100;X-TITLE=Mid Ohio Valle
 y Players:geo:0,0
END:VEVENT
BEGIN:VTIMEZONE
TZID:America/New_York
X-LIC-LOCATION:America/New_York
BEGIN:STANDARD
DTSTART:20241103T010000
TZOFFSETFROM:-0400
TZOFFSETTO:-0500
TZNAME:EST
END:STANDARD
END:VTIMEZONE
END:VCALENDAR