BEGIN:VCALENDAR
VERSION:2.0
PRODID:-//wp-events-plugin.com//7.2.3.1//EN
TZID:America/New_York
X-WR-TIMEZONE:America/New_York
BEGIN:VEVENT
UID:2963@mariettaohio.org
DTSTART;TZID=America/New_York:20260503T170000
DTEND;TZID=America/New_York:20260503T210000
DTSTAMP:20260331T122127Z
URL:https://mariettaohio.org/events/picture-perfect-tea-timeless-moments/
SUMMARY:Picture Perfect Tea &amp\; Timeless Moments
DESCRIPTION:Picture Perfect Tea &amp\; Timeless Moments is a Bridgerton ins
 pired event featuring luxury picnics\, photo minis\, charcuterie\, sweet t
 reats\, shopping\, entertainment\, live demonstrations and more! Get your 
 tickets here:\n\nhttps://www.facebook.com/share/1CHHLdP1Hz/?mibextid=wwXIf
 r
ATTACH;FMTTYPE=image/jpeg:https://mariettaohio.org/wp-content/uploads/2026
 /03/CCBC2CE8-DF17-4435-B9AD-B5555AED85D3.png
CATEGORIES:Events
LOCATION:Muskingum Park\, 310 Front Street\, Marietta\, Ohio\, 45750\, Unit
 ed States
X-APPLE-STRUCTURED-LOCATION;VALUE=URI;X-ADDRESS=310 Front Street\, Marietta
 \, Ohio\, 45750\, United States;X-APPLE-RADIUS=100;X-TITLE=Muskingum Park:
 geo:0,0
END:VEVENT
BEGIN:VTIMEZONE
TZID:America/New_York
X-LIC-LOCATION:America/New_York
BEGIN:DAYLIGHT
DTSTART:20260308T030000
TZOFFSETFROM:-0500
TZOFFSETTO:-0400
TZNAME:EDT
END:DAYLIGHT
END:VTIMEZONE
END:VCALENDAR