BEGIN:VCALENDAR
VERSION:2.0
PRODID:-//wp-events-plugin.com//7.2.3.1//EN
TZID:America/New_York
X-WR-TIMEZONE:America/New_York
BEGIN:VEVENT
UID:2974@mariettaohio.org
DTSTART;TZID=America/New_York:20260526T080000
DTEND;TZID=America/New_York:20260526T080000
DTSTAMP:20260401T140210Z
URL:https://mariettaohio.org/events/ohio-river-sternwheel-festival-5k-run/
SUMMARY:Ohio River Sternwheel festival 5K Run
DESCRIPTION:\n\nOn Saturday\, May 24th\, 2025\, the 15th anniversary of the
  Sternwheel Festival Memorial 5k Run and Walk debuted a brand-new racecour
 se!\n\n\n\n\n\nNearly 400 participants came out to enjoy the new scenery t
 hat included the American flag-lined Putnam St Bridge. Traffic was stopped
  for racers to cross the bridge safely and with a fantastic view of the Mu
 skingum and Ohio Rivers. Participants then traveled along the course into 
 the historic Harmar area of town and circled back to cross the Putnam Brid
 ge a second time. The last stretch of the race took place along Front St. 
 and the river trail/bike path\, leading finishers to cross the line at the
  gazebo in Muskingum Park.\n\n\n
ATTACH;FMTTYPE=image/jpeg:https://mariettaohio.org/wp-content/uploads/2026
 /04/OIP-1.webp
CATEGORIES:Events,Sports
LOCATION:East Muskingum Park\, East Muskingum Park\, Marietta\, Ohio\, 4575
 0\, United States
GEO:39.4149549;-81.4570803
X-APPLE-STRUCTURED-LOCATION;VALUE=URI;X-ADDRESS=East Muskingum Park\, Marie
 tta\, Ohio\, 45750\, United States;X-APPLE-RADIUS=100;X-TITLE=East Musking
 um Park:geo:39.4149549,-81.4570803
END:VEVENT
BEGIN:VTIMEZONE
TZID:America/New_York
X-LIC-LOCATION:America/New_York
BEGIN:DAYLIGHT
DTSTART:20260308T030000
TZOFFSETFROM:-0500
TZOFFSETTO:-0400
TZNAME:EDT
END:DAYLIGHT
END:VTIMEZONE
END:VCALENDAR