BEGIN:VCALENDAR
VERSION:2.0
PRODID:-//wp-events-plugin.com//7.2.3.1//EN
TZID:America/New_York
X-WR-TIMEZONE:America/New_York
BEGIN:VEVENT
UID:2997@mariettaohio.org
DTSTART;TZID=America/New_York;VALUE=DATE:20260911
DTEND;TZID=America/New_York;VALUE=DATE:20260914
DTSTAMP:20260401T163203Z
URL:https://mariettaohio.org/events/ohio-river-sternwheel-festival-3/
SUMMARY:Ohio River Sternwheel Festival
DESCRIPTION:The Ohio River Sternwheel Festival was the brainchild of Harry 
 Robinson and Captains Gene Fitch and Bob Limle. The first Ohio River Stern
 wheel Festival took place the weekend after Labor Day 1976. This festival 
 was held to encourage tourism to the Marietta area as well as preserve the
  riverboat heritage for which our area is well known.\n\nOver the years\, 
 this festival has grown tremendously\, attracting an estimated 100\,000 pe
 ople to the Marietta area during the weekend. In addition to the 30-35 aut
 hentic sternwheel boats that line the riverbank\, we offer a full weekend 
 of free\, quality\, family-oriented entertainment and the best fireworks a
 nywhere. Some of the other events that take place during the weekend inclu
 de Children’s Activities\; Coronation of Queen Genevieve\, with scholars
 hips awarded\; Little Miss and Little Mr. Sternwheel Pageant\; Sunday Sunr
 ise Service\; Rollin’ Oldies Car Show\, and a Photo Contest.
ATTACH;FMTTYPE=image/jpeg:https://mariettaohio.org/wp-content/uploads/2026
 /04/SWHEEL.jpeg
CATEGORIES:Arts &amp; Entertainment,Community,Events,Family,Festivals,Live
 Music,Outdoor Recreation
END:VEVENT
BEGIN:VTIMEZONE
TZID:America/New_York
X-LIC-LOCATION:America/New_York
BEGIN:DAYLIGHT
DTSTART:20260308T030000
TZOFFSETFROM:-0500
TZOFFSETTO:-0400
TZNAME:EDT
END:DAYLIGHT
END:VTIMEZONE
END:VCALENDAR