BEGIN:VCALENDAR
VERSION:2.0
PRODID:-//wp-events-plugin.com//7.2.3.1//EN
TZID:America/New_York
X-WR-TIMEZONE:America/New_York
BEGIN:VEVENT
UID:2345@mariettaohio.org
DTSTART;TZID=America/New_York:20250905T000000
DTEND;TZID=America/New_York:20250907T000000
DTSTAMP:20250603T151516Z
URL:https://mariettaohio.org/events/ohio-river-sternwheel-festival-2/
SUMMARY:Ohio River Sternwheel Festival
DESCRIPTION:A 49-year tradition\, this weekend festival honors the era when
  Sternwheel boats transported goods on the Ohio River. Includes sternwheel
 er races\, car show\, children’s activities\, live entertainment all thr
 ee days and the best fireworks in the land. Free to the public. Learn more
  at https://sternwheel.org
ATTACH;FMTTYPE=image/jpeg:https://mariettaohio.org/wp-content/uploads/2025
 /06/SWF_logo-1600x800-1.jpg
CATEGORIES:Festivals
LOCATION:Ohio River Levee\, 101 Front Street\, Marietta\, Ohio\, 45750\, Un
 ited States
X-APPLE-STRUCTURED-LOCATION;VALUE=URI;X-ADDRESS=101 Front Street\, Marietta
 \, Ohio\, 45750\, United States;X-APPLE-RADIUS=100;X-TITLE=Ohio River Leve
 e:geo:0,0
END:VEVENT
BEGIN:VTIMEZONE
TZID:America/New_York
X-LIC-LOCATION:America/New_York
BEGIN:DAYLIGHT
DTSTART:20250309T030000
TZOFFSETFROM:-0500
TZOFFSETTO:-0400
TZNAME:EDT
END:DAYLIGHT
END:VTIMEZONE
END:VCALENDAR