BEGIN:VCALENDAR
VERSION:2.0
PRODID:-//wp-events-plugin.com//7.2.3.1//EN
TZID:America/New_York
X-WR-TIMEZONE:America/New_York
BEGIN:VEVENT
UID:3001@mariettaohio.org
DTSTART;TZID=America/New_York:20261002T170000
DTEND;TZID=America/New_York:20261002T210000
DTSTAMP:20260401T165257Z
URL:https://mariettaohio.org/events/october-first-friday-wicked-walkabout/
SUMMARY:October First Friday: Wicked Walkabout
DESCRIPTION:Downtown First Friday events take place the first Friday of eve
 ry month from 5 p.m. to 9 p.m. February through December. Highlights of th
 ese events include shops open late\, local artists and musicians\, area or
 ganizations\, and various happenings around town.\n\n\n\n\n\n\n\nEach Firs
 t Friday is a celebration of our local community and an opportunity for lo
 cals\, tourists\, and area groups to show their support for our town\, hav
 e fun\, and enjoy the beauty of vibrant\, historic downtown Marietta!\nPlu
 s\, thanks to Artsbridge and others\, each First Friday features Kid Centr
 al on the lawn of the Armory with fun activities for kiddos to enjoy.\n\n\
 n\n\n\n\n\n
ATTACH;FMTTYPE=image/jpeg:https://mariettaohio.org/wp-content/uploads/2026
 /04/9.webp
CATEGORIES:Community,Events
LOCATION:Marietta Main Street\, 241 Front Street\, Marietta\, OH\, 45750\, 
 United States
X-APPLE-STRUCTURED-LOCATION;VALUE=URI;X-ADDRESS=241 Front Street\, Marietta
 \, OH\, 45750\, United States;X-APPLE-RADIUS=100;X-TITLE=Marietta Main Str
 eet:geo:0,0
END:VEVENT
BEGIN:VTIMEZONE
TZID:America/New_York
X-LIC-LOCATION:America/New_York
BEGIN:DAYLIGHT
DTSTART:20260308T030000
TZOFFSETFROM:-0500
TZOFFSETTO:-0400
TZNAME:EDT
END:DAYLIGHT
END:VTIMEZONE
END:VCALENDAR