BEGIN:VCALENDAR
VERSION:2.0
PRODID:-//wp-events-plugin.com//7.2.3.1//EN
TZID:America/New_York
X-WR-TIMEZONE:America/New_York
BEGIN:VEVENT
UID:2282@mariettaohio.org
DTSTART;TZID=America/New_York:20250830T100000
DTEND;TZID=America/New_York:20250830T111500
DTSTAMP:20250609T142626Z
URL:https://mariettaohio.org/events/oak-grove-cemetery-coming-alive/
SUMMARY:Oak Grove Cemetery Coming Alive
DESCRIPTION:History comes to life—right before your eyes.\nStep into the 
 past as Oak Grove Cemetery’s “residents” return for one morning only
  in this captivating living history tour. Through costumed interpreters st
 ationed throughout the grounds\, real individuals buried in Oak Grove will
  share their fascinating stories—tales of resilience\, tragedy\, accompl
 ishment\, and surprising connections that shaped Marietta and its communit
 y.\n\nEach stop along the tour reveals a new voice from the past—brought
  vividly to life by talented performers who embody the people they portray
 . You’ll leave with a deeper appreciation for Marietta’s local history
  and the remarkable lives that helped shape it.\n\nThis experience is idea
 l for history enthusiasts\, curious minds\, and families alike.
ATTACH;FMTTYPE=image/jpeg:https://mariettaohio.org/wp-content/uploads/2025
 /05/25-CAS-5491-ComingAliveGraphic-v1.png
CATEGORIES:Arts &amp;
 Entertainment,Community,Events,Featured,Historical,Tours
LOCATION:Oak Grove Cemetery\, 8th and Washington Streets\, Marietta\, Ohio 
 \, 45750\, United States
X-APPLE-STRUCTURED-LOCATION;VALUE=URI;X-ADDRESS=8th and Washington Streets\
 , Marietta\, Ohio \, 45750\, United States;X-APPLE-RADIUS=100;X-TITLE=Oak 
 Grove Cemetery:geo:0,0
END:VEVENT
BEGIN:VTIMEZONE
TZID:America/New_York
X-LIC-LOCATION:America/New_York
BEGIN:DAYLIGHT
DTSTART:20250309T030000
TZOFFSETFROM:-0500
TZOFFSETTO:-0400
TZNAME:EDT
END:DAYLIGHT
END:VTIMEZONE
END:VCALENDAR