BEGIN:VCALENDAR
VERSION:2.0
PRODID:-//wp-events-plugin.com//7.2.3.1//EN
TZID:America/New_York
X-WR-TIMEZONE:America/New_York
BEGIN:VEVENT
UID:2059@mariettaohio.org
DTSTART;TZID=America/New_York:20250225T000000
DTEND;TZID=America/New_York:20250225T000000
DTSTAMP:20241217T143700Z
URL:https://mariettaohio.org/events/night-out-spring-craft/
SUMMARY:Night Out Spring Craft
DESCRIPTION:On Tuesday\, February 25 at 6 pm\, we will be decorating a spri
 ng towel. Registration is required by calling 740-984-4060. This event is 
 for adults ages 18+ and takes place at Riverbend Family Dining. Friends of
  the Beverly Library will provide an appetizer and non-alcoholic drink.
ATTACH;FMTTYPE=image/jpeg:https://mariettaohio.org/wp-content/uploads/2024
 /12/Beige-and-pink-Stamping-workshop-modern-instagram-post.jpg
CATEGORIES:Community
LOCATION:Riverbend Family Dining\, 415 5th Street\, Beverly\, Ohio\, 45715\
 , United States
GEO:39.549104;-81.631735
X-APPLE-STRUCTURED-LOCATION;VALUE=URI;X-ADDRESS=415 5th Street\, Beverly\, 
 Ohio\, 45715\, United States;X-APPLE-RADIUS=100;X-TITLE=Riverbend Family D
 ining:geo:39.549104,-81.631735
END:VEVENT
BEGIN:VTIMEZONE
TZID:America/New_York
X-LIC-LOCATION:America/New_York
BEGIN:STANDARD
DTSTART:20241103T010000
TZOFFSETFROM:-0400
TZOFFSETTO:-0500
TZNAME:EST
END:STANDARD
END:VTIMEZONE
END:VCALENDAR