BEGIN:VCALENDAR
VERSION:2.0
PRODID:-//wp-events-plugin.com//7.2.3.1//EN
TZID:America/New_York
X-WR-TIMEZONE:America/New_York
BEGIN:VEVENT
UID:2060@mariettaohio.org
DTSTART;TZID=America/New_York:20250325T180000
DTEND;TZID=America/New_York:20250325T190000
DTSTAMP:20241217T143711Z
URL:https://mariettaohio.org/events/night-out-puzzle-debry/
SUMMARY:Night Out - Puzzle Debry
DESCRIPTION:On Tuesday\, March 25 at 6 pm\, gather your team for a challeng
 e-filled evening. Teams of up to 4 players will compete to see who can com
 plete a 300 piece puzzle fastest. Registration is required by calling 740-
 984-4060. This event is for adults ages 18+ and takes place at Riverbend F
 amily Dining. Friends of the Beverly Library will provide an appetizer and
  non-alcoholic drink.
ATTACH;FMTTYPE=image/jpeg:https://mariettaohio.org/wp-content/uploads/2024
 /12/Colorful-Illustration-Happy-National-Puzzle-Day-Poster.jpg
CATEGORIES:Community,Events
LOCATION:Riverbend Family Dining\, 415 5th Street\, Beverly\, Ohio\, 45715\
 , United States
GEO:39.549104;-81.631735
X-APPLE-STRUCTURED-LOCATION;VALUE=URI;X-ADDRESS=415 5th Street\, Beverly\, 
 Ohio\, 45715\, United States;X-APPLE-RADIUS=100;X-TITLE=Riverbend Family D
 ining:geo:39.549104,-81.631735
END:VEVENT
BEGIN:VTIMEZONE
TZID:America/New_York
X-LIC-LOCATION:America/New_York
BEGIN:DAYLIGHT
DTSTART:20250309T030000
TZOFFSETFROM:-0500
TZOFFSETTO:-0400
TZNAME:EDT
END:DAYLIGHT
END:VTIMEZONE
END:VCALENDAR