BEGIN:VCALENDAR
VERSION:2.0
PRODID:-//wp-events-plugin.com//7.2.3.1//EN
TZID:America/New_York
X-WR-TIMEZONE:America/New_York
BEGIN:VEVENT
UID:2058@mariettaohio.org
DTSTART;TZID=America/New_York:20250128T180000
DTEND;TZID=America/New_York:20250128T190000
DTSTAMP:20241217T143113Z
URL:https://mariettaohio.org/events/night-out-amazing-library-race/
SUMMARY:Night Out - Amazing Library Race
DESCRIPTION:On Tuesday\, January 28 at 6 pm\, gather your team for a challe
 nge-filled evening. Teams of two will explore different challenges. The te
 am to complete the challenges first will win a prize. Registration is requ
 ired by calling 740-984-4060. This event is for adults ages 18+ and takes 
 place at Riverbend Family Dining. Friends of the Beverly Library will prov
 ide an appetizer and non-alcoholic drink.
ATTACH;FMTTYPE=image/jpeg:https://mariettaohio.org/wp-content/uploads/2024
 /12/night-out-race.png
CATEGORIES:Community
LOCATION:Riverbend Family Dining\, 415 5th Street\, Beverly\, Ohio\, 45715\
 , United States
GEO:39.549104;-81.631735
X-APPLE-STRUCTURED-LOCATION;VALUE=URI;X-ADDRESS=415 5th Street\, Beverly\, 
 Ohio\, 45715\, United States;X-APPLE-RADIUS=100;X-TITLE=Riverbend Family D
 ining:geo:39.549104,-81.631735
END:VEVENT
BEGIN:VTIMEZONE
TZID:America/New_York
X-LIC-LOCATION:America/New_York
BEGIN:STANDARD
DTSTART:20241103T010000
TZOFFSETFROM:-0400
TZOFFSETTO:-0500
TZNAME:EST
END:STANDARD
END:VTIMEZONE
END:VCALENDAR