BEGIN:VCALENDAR
VERSION:2.0
PRODID:-//wp-events-plugin.com//7.2.3.1//EN
TZID:America/New_York
X-WR-TIMEZONE:America/New_York
BEGIN:VEVENT
UID:389@mariettaohio.org
DTSTART;TZID=America/New_York:20230328T180000
DTEND;TZID=America/New_York:20230328T200000
DTSTAMP:20230117T171503Z
URL:https://mariettaohio.org/events/night-out-2/
SUMMARY:Night Out
DESCRIPTION:Join the Beverly Library at Riverbend Family Dining for an ente
 rtaining evening. Non-Alcoholic drinks and an appetizer are provided court
 esy of the Friends of the Beverly Library. This month we will be having a 
 plant swap and making Macramé Planters. This event is for ages 18+. Sign-
 up is a must! To register\, stop by the Beverly Branch or call 740-984-406
 0.
ATTACH;FMTTYPE=image/jpeg:https://mariettaohio.org/wp-content/uploads/2023
 /01/macrame-gc8db23c3b_1920.jpg
CATEGORIES:Events
LOCATION:Riverbend Family Dining\, 415 5th Street\, Beverly\, Ohio\, 45715\
 , United States
GEO:39.549104;-81.631735
X-APPLE-STRUCTURED-LOCATION;VALUE=URI;X-ADDRESS=415 5th Street\, Beverly\, 
 Ohio\, 45715\, United States;X-APPLE-RADIUS=100;X-TITLE=Riverbend Family D
 ining:geo:39.549104,-81.631735
END:VEVENT
BEGIN:VTIMEZONE
TZID:America/New_York
X-LIC-LOCATION:America/New_York
BEGIN:DAYLIGHT
DTSTART:20230312T030000
TZOFFSETFROM:-0500
TZOFFSETTO:-0400
TZNAME:EDT
END:DAYLIGHT
END:VTIMEZONE
END:VCALENDAR