BEGIN:VCALENDAR
VERSION:2.0
PRODID:-//wp-events-plugin.com//7.2.3.1//EN
TZID:America/New_York
X-WR-TIMEZONE:America/New_York
BEGIN:VEVENT
UID:2288@mariettaohio.org
DTSTART;TZID=America/New_York:20250614T120000
DTEND;TZID=America/New_York:20250614T140000
DTSTAMP:20250528T151406Z
URL:https://mariettaohio.org/events/mystery-picnic-lunch-cruise/
SUMMARY:Mystery Picnic Lunch Cruise
DESCRIPTION:Join us on June 14 for this new event on the Major/Riviera. Bef
 ore you arrive for the Mystery Picnic Basket Luncheon Cruise\, you will ha
 ve a picnic basket prepared for all the people in your party. Each basket 
 will be specially prepared and each one will be a little different. The ba
 sket will be given to your table to enjoy throughout the boat. Happy picni
 cking!\n\nJune 14\, 12pm to 2pm\n$38 for Adults\, $36 for Seniors\, $28 fo
 r Children 3-12\n\nBook online at www.valleygemsternwheeler.com or call 74
 0-373-7862
ATTACH;FMTTYPE=image/jpeg:https://mariettaohio.org/wp-content/uploads/2025
 /05/Mystery-Picnic-Basket-scaled.jpg
CATEGORIES:Events
LOCATION:Major/Riviera\, 601 Front Street\, Marietta\, OH\, 45750\, United 
 States
X-APPLE-STRUCTURED-LOCATION;VALUE=URI;X-ADDRESS=601 Front Street\, Marietta
 \, OH\, 45750\, United States;X-APPLE-RADIUS=100;X-TITLE=Major/Riviera:geo
 :0,0
END:VEVENT
BEGIN:VTIMEZONE
TZID:America/New_York
X-LIC-LOCATION:America/New_York
BEGIN:DAYLIGHT
DTSTART:20250309T030000
TZOFFSETFROM:-0500
TZOFFSETTO:-0400
TZNAME:EDT
END:DAYLIGHT
END:VTIMEZONE
END:VCALENDAR