BEGIN:VCALENDAR
VERSION:2.0
PRODID:-//wp-events-plugin.com//7.2.3.1//EN
TZID:America/New_York
X-WR-TIMEZONE:America/New_York
BEGIN:VEVENT
UID:1995@mariettaohio.org
DTSTART;TZID=America/New_York:20250208T173000
DTEND;TZID=America/New_York:20250208T193000
DTSTAMP:20241202T195208Z
URL:https://mariettaohio.org/events/murder-mystery-dinner-cruise-13/
SUMMARY:Murder Mystery Dinner Cruise
DESCRIPTION:Back by popular demand\, the Valley Gem's Murder Mystery Dinner
  Cruise will feature a lovely Captain's Buffet as passengers learn of a mu
 rder or murders happening around them. Members of The Company will introdu
 ce their characters to begin the cruise and as the night goes on\, guests 
 will witness scenes and be responsible for playing judge and jury as we tr
 y to uncover the murderer. Passengers who guessed correctly will be put in
  a drawing for a prize! No two cruises are the same. And you'll never know
  who will be next…\n\nMurder Mystery Dinner Cruises take place on both t
 he Valley Gem and the Major/Riviera. Reservations are required.\n\nWinter 
 Dates: January 18\, 1-3pm\, February 8\, March 8\, April 5\, 5:30pm to 7:3
 0pm\n\n$49 for Adults\, $47 for Seniors\, $39 for Children 3-12\n\nCall 74
 0-373-7862 or visit www.valleygemsternwheeler.com
ATTACH;FMTTYPE=image/jpeg:https://mariettaohio.org/wp-content/uploads/2024
 /12/Murder-Mystery-Dinner-Cruise-1.jpg
CATEGORIES:Arts &amp; Entertainment,Events
LOCATION:Valley Gem Sternwheeler\, 601 Front St\, Marietta\, Ohio\, 45750\,
  United States
GEO:39.421017;-81.463989
X-APPLE-STRUCTURED-LOCATION;VALUE=URI;X-ADDRESS=601 Front St\, Marietta\, O
 hio\, 45750\, United States;X-APPLE-RADIUS=100;X-TITLE=Valley Gem Sternwhe
 eler:geo:39.421017,-81.463989
END:VEVENT
BEGIN:VTIMEZONE
TZID:America/New_York
X-LIC-LOCATION:America/New_York
BEGIN:STANDARD
DTSTART:20241103T010000
TZOFFSETFROM:-0400
TZOFFSETTO:-0500
TZNAME:EST
END:STANDARD
END:VTIMEZONE
END:VCALENDAR