BEGIN:VCALENDAR
VERSION:2.0
PRODID:-//wp-events-plugin.com//7.2.3.1//EN
TZID:America/New_York
X-WR-TIMEZONE:America/New_York
BEGIN:VEVENT
UID:1721@mariettaohio.org
DTSTART;TZID=America/New_York:20240822T183000
DTEND;TZID=America/New_York:20240822T203000
DTSTAMP:20240725T154525Z
URL:https://mariettaohio.org/events/murder-mystery-dinner-cruise-10/
SUMMARY:Murder Mystery Dinner Cruise
DESCRIPTION:Answer the Pirates Call and join us for our Summer Murder Myste
 ry: Revenge of the Siren's Gold by Robert J. Leblanc.\n\nAs we cruise\, en
 joy dinner\, and enjoy the show as members of The Company perform in the d
 ining room around you. Guess the correct murderer and be put in a drawing 
 for a prize!\n\nReservations are required. Call 740-373-7862 or visit www.
 valleygemsternwheeler.com and select "Book Major/Riviera"
ATTACH;FMTTYPE=image/jpeg:https://mariettaohio.org/wp-content/uploads/2024
 /07/6480f5806fce531e4f22966b_723x542.jpg
CATEGORIES:Arts &amp; Entertainment
LOCATION:Major/Riviera\, 601 Front Street\, Marietta\, OH\, 45750\, United 
 States
X-APPLE-STRUCTURED-LOCATION;VALUE=URI;X-ADDRESS=601 Front Street\, Marietta
 \, OH\, 45750\, United States;X-APPLE-RADIUS=100;X-TITLE=Major/Riviera:geo
 :0,0
END:VEVENT
BEGIN:VTIMEZONE
TZID:America/New_York
X-LIC-LOCATION:America/New_York
BEGIN:DAYLIGHT
DTSTART:20240310T030000
TZOFFSETFROM:-0500
TZOFFSETTO:-0400
TZNAME:EDT
END:DAYLIGHT
END:VTIMEZONE
END:VCALENDAR