BEGIN:VCALENDAR
VERSION:2.0
PRODID:-//wp-events-plugin.com//7.2.3.1//EN
TZID:America/New_York
X-WR-TIMEZONE:America/New_York
BEGIN:VEVENT
UID:939@mariettaohio.org
DTSTART;TZID=America/New_York:20231007T200000
DTEND;TZID=America/New_York:20231007T234500
DTSTAMP:20230727T124727Z
URL:https://mariettaohio.org/events/mr-breeze-lynyrd-skynyrd-tribute-band/
SUMMARY:Mr. Breeze - Lynyrd Skynyrd Tribute Band
DESCRIPTION:Mister Breeze brings the experience of live southern rock done 
 right. As you can tell by the song list\, Mister Breeze plays many of the 
 hits from Lynyrd Skynyrd. The band also adds classics from The Allman Bros
 . Band\, .38 Special\, and more.\n\nVinnie Napoli-Vocals \, Dirk Garman-Gu
 itar\, Larry Lawrence-Guitar \, Brad Gendics-Guitar \, Adam-Bass \, Bob Ma
 linky-Drums \, Joe Hartsel-Keys
ATTACH;FMTTYPE=image/jpeg:https://mariettaohio.org/wp-content/uploads/2023
 /07/03139-ADL-Instagram-2.jpg
CATEGORIES:Music
LOCATION:The Adelphia Music Hall\, 205 2nd St\, Marietta\, OH\, 45750\, Uni
 ted States
GEO:39.413719;-81.453701
X-APPLE-STRUCTURED-LOCATION;VALUE=URI;X-ADDRESS=205 2nd St\, Marietta\, OH\
 , 45750\, United States;X-APPLE-RADIUS=100;X-TITLE=The Adelphia Music Hall
 :geo:39.413719,-81.453701
END:VEVENT
BEGIN:VTIMEZONE
TZID:America/New_York
X-LIC-LOCATION:America/New_York
BEGIN:DAYLIGHT
DTSTART:20230312T030000
TZOFFSETFROM:-0500
TZOFFSETTO:-0400
TZNAME:EDT
END:DAYLIGHT
END:VTIMEZONE
END:VCALENDAR