BEGIN:VCALENDAR
VERSION:2.0
PRODID:-//wp-events-plugin.com//7.2.3.1//EN
TZID:America/New_York
X-WR-TIMEZONE:America/New_York
BEGIN:VEVENT
UID:2994@mariettaohio.org
DTSTART;TZID=America/New_York:20260829T100000
DTEND;TZID=America/New_York:20260829T111500
DTSTAMP:20260401T161751Z
URL:https://mariettaohio.org/events/mound-cemetery-coming-alive-3/
SUMMARY:Mound Cemetery Coming Alive
DESCRIPTION:History comes to life—right before your eyes.\nStep into the 
 past as Mound Cemetery’s “residents” return for one morning only in 
 this captivating living history tour. Through costumed interpreters statio
 ned throughout the grounds\, real individuals buried in Mound Cemetery wil
 l share their fascinating stories—tales of resilience\, tragedy\, accomp
 lishment\, and surprising connections that shaped Marietta and its communi
 ty.\nEach stop along the tour reveals a new voice from the past—brought 
 vividly to life by talented performers who embody the people they portray.
  You’ll leave with a deeper appreciation for Marietta’s local history 
 and the remarkable lives that helped shape it.\nThis experience is ideal f
 or history enthusiasts\, curious minds\, and families alike.\nReservation 
 Information\n\n\n 	\nGeneral Admission: $14.50 (ages 8 and up)\n\n 	\nCast
 le Members: $12.50 (use code “Member” at checkout)\n\n 	\nChildren 7 a
 nd under: Free\n\n\nImportant Tour Details\n\n\n 	\nTour lasts approximate
 ly 75 minutes\n\n 	\nWalking will include uneven ground and standing for e
 xtended periods\n\n 	\nDress appropriately for the weather\; bring water\,
  walking sticks\, or folding chairs for added comfort\n\n 	\nIf you have p
 re-purchased reservations\, check in with a Castle team member upon arriva
 l\n\n 	\nOnsite reservations will be available – exact change is appreci
 ated\n\n\nPlease note: Photos taken during the event may be used for futur
 e promotional purposes.\nSpace is limited—reserve your spot today and ex
 perience local history like never before.\n&nbsp\;\n\nMake your Reservatio
 ns - 10 AM Tour
ATTACH;FMTTYPE=image/jpeg:https://mariettaohio.org/wp-content/uploads/2026
 /04/25-CAS-5491-ComingAliveGraphic-v1.webp
CATEGORIES:Education,Historical,Tours
LOCATION:Mound Cemetery\, Fifth and Scammel Streets\, Marietta\, Ohio\, 457
 50\, United States
X-APPLE-STRUCTURED-LOCATION;VALUE=URI;X-ADDRESS=Fifth and Scammel Streets\,
  Marietta\, Ohio\, 45750\, United States;X-APPLE-RADIUS=100;X-TITLE=Mound 
 Cemetery:geo:0,0
END:VEVENT
BEGIN:VTIMEZONE
TZID:America/New_York
X-LIC-LOCATION:America/New_York
BEGIN:DAYLIGHT
DTSTART:20260308T030000
TZOFFSETFROM:-0500
TZOFFSETTO:-0400
TZNAME:EDT
END:DAYLIGHT
END:VTIMEZONE
END:VCALENDAR